BEGIN:VCALENDAR
VERSION:2.0
PRODID:-//wp-events-plugin.com//7.2.3.1//EN
TZID:Europe/Paris
X-WR-TIMEZONE:Europe/Paris
BEGIN:VEVENT
UID:409@egliseverte.org
DTSTART;TZID=Europe/Paris:20241004T203000
DTEND;TZID=Europe/Paris:20241004T213000
DTSTAMP:20241001T155702Z
URL:https://www.egliseverte.org/agenda/priere-oecumenique-pour-la-creation
 -14/
SUMMARY:Prière œcuménique pour la Création (14)
DESCRIPTION:Avec des chants de Taizé\, à l'église de Bretteville.
ATTACH;FMTTYPE=image/jpeg:https://www.egliseverte.org/wp-content/uploads/2
 024/10/TpC-2024-SF-Odons.png
LOCATION:Eglise de Bretteville sur odon\, 68 route de bretagne\, BRETTEVILL
 E SUR ODON\, CALVADOS\, 14760\, NORMANDIE\, France
X-APPLE-STRUCTURED-LOCATION;VALUE=URI;X-ADDRESS=68 route de bretagne\, BRET
 TEVILLE SUR ODON\, CALVADOS\, 14760\, NORMANDIE\, France;X-APPLE-RADIUS=10
 0;X-TITLE=Eglise de Bretteville sur odon:geo:0,0
END:VEVENT
BEGIN:VTIMEZONE
TZID:Europe/Paris
X-LIC-LOCATION:Europe/Paris
BEGIN:DAYLIGHT
DTSTART:20240331T030000
TZOFFSETFROM:+0100
TZOFFSETTO:+0200
TZNAME:CEST
END:DAYLIGHT
END:VTIMEZONE
END:VCALENDAR