BEGIN:VCALENDAR
VERSION:2.0
PRODID:-//wp-events-plugin.com//7.2.3.1//EN
TZID:Europe/Paris
X-WR-TIMEZONE:Europe/Paris
BEGIN:VEVENT
UID:397@egliseverte.org
DTSTART;TZID=Europe/Paris:20240925T200000
DTEND;TZID=Europe/Paris:20240925T213000
DTSTAMP:20240917T093653Z
URL:https://www.egliseverte.org/agenda/priere-pour-la-creation-50/
SUMMARY:Prière pour la Création (50)
DESCRIPTION:Chaque année\, le Temps pour la Création se déroule du 1er s
 eptembre au 4 octobre et invite les chrétiens se mettre à l'écoute du d
 e la Création pour s'engager pour sa protection. Ce temps est une occasio
 n de prière et de célébration. Nous proposons à toutes les personnes q
 ui le souhaitent de s'unir aux chrétiens du monde entier pour un temps d'
 écoute de la parole de Dieu et de prière organisé dans l'ensemble paroi
 ssial Notre-Dame-de-Coutances\, le mercredi 25 septembre à 20h\, à la ma
 ison diocésaine de Coutances.
ATTACH;FMTTYPE=image/jpeg:https://www.egliseverte.org/wp-content/uploads/2
 024/06/TpC-2024_Publication-carre_v2_catholiques.png
LOCATION:Maison diocésaine\, 5\, rue du cardinal Guyot\, Coutances\, 50200
 \, France
X-APPLE-STRUCTURED-LOCATION;VALUE=URI;X-ADDRESS=5\, rue du cardinal Guyot\,
  Coutances\, 50200\, France;X-APPLE-RADIUS=100;X-TITLE=Maison diocésaine:
 geo:0,0
END:VEVENT
BEGIN:VTIMEZONE
TZID:Europe/Paris
X-LIC-LOCATION:Europe/Paris
BEGIN:DAYLIGHT
DTSTART:20240331T030000
TZOFFSETFROM:+0100
TZOFFSETTO:+0200
TZNAME:CEST
END:DAYLIGHT
END:VTIMEZONE
END:VCALENDAR