BEGIN:VCALENDAR
VERSION:2.0
PRODID:-//wp-events-plugin.com//7.2.3.1//EN
TZID:Europe/Paris
X-WR-TIMEZONE:Europe/Paris
BEGIN:VEVENT
UID:498@egliseverte.org
DTSTART;TZID=Europe/Paris:20250618T183000
DTEND;TZID=Europe/Paris:20250618T191500
DTSTAMP:20250611T103514Z
URL:https://www.egliseverte.org/agenda/priere-pour-les-10-ans-de-laudato-s
 i/
SUMMARY:Prière pour les 10 ans de Laudato Si
DESCRIPTION:Temps de prière dans la nature pour fêter les 10 ans de parut
 ion de l'encyclique Laudato Si\n\nParoisse St Benoît en Val de Moine
ATTACH;FMTTYPE=image/jpeg:https://www.egliseverte.org/wp-content/uploads/2
 023/09/LS-couverture.jpg
LOCATION:Parc de la Croix Verte\,  Allée des écureuils\, St Macaire en Ma
 uges\, 49450\, France
X-APPLE-STRUCTURED-LOCATION;VALUE=URI;X-ADDRESS= Allée des écureuils\, St
  Macaire en Mauges\, 49450\, France;X-APPLE-RADIUS=100;X-TITLE=Parc de la 
 Croix Verte:geo:0,0
END:VEVENT
BEGIN:VTIMEZONE
TZID:Europe/Paris
X-LIC-LOCATION:Europe/Paris
BEGIN:DAYLIGHT
DTSTART:20250330T030000
TZOFFSETFROM:+0100
TZOFFSETTO:+0200
TZNAME:CEST
END:DAYLIGHT
END:VTIMEZONE
END:VCALENDAR