BEGIN:VCALENDAR
VERSION:2.0
PRODID:-//wp-events-plugin.com//7.2.3.1//EN
TZID:Europe/Paris
X-WR-TIMEZONE:Europe/Paris
BEGIN:VEVENT
UID:550@egliseverte.org
DTSTART;TZID=Europe/Paris:20250911T084500
DTEND;TZID=Europe/Paris:20250911T093000
DTSTAMP:20250909T170246Z
URL:https://www.egliseverte.org/agenda/priere-temps-pour-la-creation-jura/
SUMMARY:Prière à l'occasion du temps pour la création
DESCRIPTION:Temps de prière ouvert à tous organisé par les salariés et 
 bénévoles de la maison diocésaine du Saint Esprit. Sans eucharistie.
ATTACH;FMTTYPE=image/jpeg:https://www.egliseverte.org/wp-content/uploads/2
 025/09/WhatsApp-Image-2024-04-12-at-11.29.16.jpeg
LOCATION:Parc de la maison diocésaine du Saint Esprit\, 21 rue Saint Roch\
 , Poligny\, 39800\, France
GEO:46.837387;5.706052
X-APPLE-STRUCTURED-LOCATION;VALUE=URI;X-ADDRESS=21 rue Saint Roch\, Poligny
 \, 39800\, France;X-APPLE-RADIUS=100;X-TITLE=Parc de la maison diocésaine
  du Saint Esprit:geo:46.837387,5.706052
END:VEVENT
BEGIN:VTIMEZONE
TZID:Europe/Paris
X-LIC-LOCATION:Europe/Paris
BEGIN:DAYLIGHT
DTSTART:20250330T030000
TZOFFSETFROM:+0100
TZOFFSETTO:+0200
TZNAME:CEST
END:DAYLIGHT
END:VTIMEZONE
END:VCALENDAR