BEGIN:VCALENDAR
VERSION:2.0
PRODID:-//wp-events-plugin.com//7.2.3.1//EN
TZID:Europe/Paris
X-WR-TIMEZONE:Europe/Paris
BEGIN:VEVENT
UID:280@egliseverte.org
DTSTART;TZID=Europe/Paris:20230515T203000
DTEND;TZID=Europe/Paris:20230515T223000
DTSTAMP:20231120T161111Z
URL:https://www.egliseverte.org/agenda/projection-debat-du-film-la-lettre-
 un-message-pour-notre-planete-paris-14/
SUMMARY:Projection - débat du film "la Lettre\, un message pour notre plan
 ète" (Paris 14)
DESCRIPTION:Projection du film "la lettre\, un message pour notre planète"
  par le groupe CCFD-Terre-solidaire de la paroisse.
ATTACH;FMTTYPE=image/jpeg:https://www.egliseverte.org/wp-content/uploads/2
 022/10/FR_YT.jpg
LOCATION:Paroisse Notre-Dame du Rosaire\, 174 rue Raymond Losserand \, Pari
 s \, France \, 75014\, France
GEO:48.829859;2.30963
X-APPLE-STRUCTURED-LOCATION;VALUE=URI;X-ADDRESS=174 rue Raymond Losserand \
 , Paris \, France \, 75014\, France;X-APPLE-RADIUS=100;X-TITLE=Paroisse No
 tre-Dame du Rosaire:geo:48.829859,2.30963
END:VEVENT
BEGIN:VTIMEZONE
TZID:Europe/Paris
X-LIC-LOCATION:Europe/Paris
BEGIN:DAYLIGHT
DTSTART:20230326T030000
TZOFFSETFROM:+0100
TZOFFSETTO:+0200
TZNAME:CEST
END:DAYLIGHT
END:VTIMEZONE
END:VCALENDAR