BEGIN:VCALENDAR
VERSION:2.0
PRODID:-//wp-events-plugin.com//7.2.3.1//EN
TZID:Europe/Paris
X-WR-TIMEZONE:Europe/Paris
BEGIN:VEVENT
UID:353@egliseverte.org
DTSTART;TZID=Europe/Paris:20240616T150000
DTEND;TZID=Europe/Paris:20240616T163000
DTSTAMP:20240611T143518Z
URL:https://www.egliseverte.org/agenda/projection-du-film-la-lettre-89/
SUMMARY:Projection du Film La Lettre (89)
DESCRIPTION:Projection du Film La Lettre à l'occasion de notre Journée de
 s Voisins
ATTACH;FMTTYPE=image/jpeg:https://www.egliseverte.org/wp-content/uploads/2
 022/10/FR_YT.jpg
LOCATION:Abbaye de la Pierre qui Vire\,  Abbaye de la Pierre qui Vire\, St 
 Léger Vauban\, Yonne\, 89630\, Bourgogne\, France
X-APPLE-STRUCTURED-LOCATION;VALUE=URI;X-ADDRESS= Abbaye de la Pierre qui Vi
 re\, St Léger Vauban\, Yonne\, 89630\, Bourgogne\, France;X-APPLE-RADIUS=
 100;X-TITLE=Abbaye de la Pierre qui Vire:geo:0,0
END:VEVENT
BEGIN:VTIMEZONE
TZID:Europe/Paris
X-LIC-LOCATION:Europe/Paris
BEGIN:DAYLIGHT
DTSTART:20240331T030000
TZOFFSETFROM:+0100
TZOFFSETTO:+0200
TZNAME:CEST
END:DAYLIGHT
END:VTIMEZONE
END:VCALENDAR