BEGIN:VCALENDAR
VERSION:2.0
PRODID:-//wp-events-plugin.com//7.2.3.1//EN
TZID:Europe/Paris
X-WR-TIMEZONE:Europe/Paris
BEGIN:VEVENT
UID:505@egliseverte.org
DTSTART;TZID=Europe/Paris:20250719T190000
DTEND;TZID=Europe/Paris:20250719T204500
DTSTAMP:20250716T142217Z
URL:https://www.egliseverte.org/agenda/projection-du-film-la-lettre-du-pap
 e-francois/
SUMMARY:Projection du film LA LETTRE du Pape François
DESCRIPTION:🎬 Ciné-Rencontre : La Lettre – Un cri pour notre TERRE 
 🌍\n📅 Samedi 19 juillet 2025\n🕖 19h00\n📍 Salle communale de Ghi
 sonaccia (salle de la mairie)\n\nProjection exceptionnelle du film inspir
 é par le pape François : "La Lettre"\nUn voyage bouleversant à la crois
 ée de l'écologie\, de la spiritualité et de la justice sociale.\n💬 C
 e film puissant nous invite à repenser notre lien avec la nature\, à éc
 outer la voix des plus vulnérables\, et à nous engager pour un avenir pl
 us solidaire et durable.\nTémoignages poignants\, images saisissantes\, e
 t une invitation claire : agir ensemble pour notre maison commune.\n______
 __________________________________\n🍹 Après la projection :\nPartagez 
 vos impressions autour d’un moment convivial d’échange\, suivi d’un
  apéritif rafraîchissant aux saveurs locales.\n_________________________
 _______________\n👥 Organisé par :\n• Église catholique de Corse –
  Thibault Carli (chargé de l’écologie)\n• Église protestante de Cor
 se – Pasteure Marie-Odile Wilson-Sorba\n• Église Verte – Ambassadri
 ce Sigrid Hansen-Catania Tél. 06 14 90 47 22\n• Mouvement Laudato Si' 
 – Pascal Pozzo di Borgo (animateur du réseau)\n\n📽️ Entrée libre 
 – Venez nombreux !\n✨ Une soirée qui éveillera votre conscience… e
 t nourrira votre espérance.
ATTACH;FMTTYPE=image/jpeg:https://www.egliseverte.org/wp-content/uploads/2
 022/10/FR_YT.jpg
LOCATION:Salle communale de Ghisonaccia\, place de l' hôtel de ville\, Ghi
 sonaccia \, Haute Corse\, 20240\, CORSE\, France
X-APPLE-STRUCTURED-LOCATION;VALUE=URI;X-ADDRESS=place de l' hôtel de ville
 \, Ghisonaccia \, Haute Corse\, 20240\, CORSE\, France;X-APPLE-RADIUS=100;
 X-TITLE=Salle communale de Ghisonaccia:geo:0,0
END:VEVENT
BEGIN:VTIMEZONE
TZID:Europe/Paris
X-LIC-LOCATION:Europe/Paris
BEGIN:DAYLIGHT
DTSTART:20250330T030000
TZOFFSETFROM:+0100
TZOFFSETTO:+0200
TZNAME:CEST
END:DAYLIGHT
END:VTIMEZONE
END:VCALENDAR