BEGIN:VCALENDAR
VERSION:2.0
PRODID:-//wp-events-plugin.com//7.2.3.1//EN
TZID:Europe/Paris
X-WR-TIMEZONE:Europe/Paris
BEGIN:VEVENT
UID:273@egliseverte.org
DTSTART;TZID=Europe/Paris:20230502T194500
DTEND;TZID=Europe/Paris:20230502T220000
DTSTAMP:20231120T161103Z
URL:https://www.egliseverte.org/agenda/quelle-mobilisation-chretienne-sur-
 les-sujets-ecolos-75/
SUMMARY:Quelle mobilisation chrétienne sur les sujets écolos ? (75)
DESCRIPTION:Le contexte\n\nDepuis plusieurs mois\, diverses actions ont ét
 é menées afin de faire entendre la voix des jeunes chrétiens préoccup
 és par les enjeux écologiques. En particulier\, ces actions ont été co
 ncentrées contre le projet pétrolier EACOP de TotalEnergies en Ouganda e
 t Tanzanie\, une catastrophe pour la population ougandaise\, la biodiversi
 té locale\, et notre avenir à toutes et tous sur cette planète. Il a é
 té très largement dénoncé par de nombreux acteurs associatifs\, des as
 surances des banques\, et par un membre du Dicastère pour le développeme
 nt humain intégral\, au Vatican.\n\nDans cette dynamique\, voici quelques
  actions menées sur ce sujet pour faire entendre notre voix de jeunes chr
 étiens :\n\n 	publication en octobre d'une tribune dans La Croix signée 
 par 400 jeunes catholiques demandant aux évêques français de prendre cl
 airement position dans la sphère publique contre le projet EACOP\n 	organ
 isation en février de cercles de silence devant la tour Total à La Défe
 nse\n 	travail avec la Conférence des Évêques pour les inciter à prend
 re position conter ce projet\n\nA l'occasion des cercles de silence\, nous
  avons éprouvé la joie de nous retrouver pour "faire église" d'une mani
 ère nouvelle\, en mettant la foi au cœur d'une action politique. Nous so
 uhaitons continuer cette dynamique en étant persuadé qu'elle peut parler
  encore plus largement ! Par ailleurs\, nous pensons que ce projet est l'o
 ccasion de questionner nos manières\, en tant que chrétien\, de nous eng
 ager dans la société pour le bien commun et la justice sociale et climat
 ique. Plus de 7 ans après la publication de Laudato Si'\, nous nous deman
 dons comment la voix d'une jeunesse chrétienne préoccupée par ces enjeu
 x peut être davantage prise en compte !\n\nLa soirée du 2 mai 2023 "Quel
 le mobilisation chrétienne sur les sujets écolo ?"\, co-organisée par l
 e café le Dorothy et Magis Paris\n\nNous avons donc pensé la soirée du 
 2 mai comme un lieu pour se questionner sur ces sujets à partir d'un cas 
 concret : le projet EACOP de TotalEnergies.\n\nDéroulement de la soirée 
 :\n\nDans un premier temps\, le collectif STOP EACOP viendra présenter sa
  stratégie pour faire de la mobilisation citoyenne contre ce projet\, ain
 si que les actions menées jusqu'à maintenant\n\nDans un deuxième temps\
 , nous échangerons sur la façon dont cela nous rejoint (ou pas)\, nous a
 ppelle peut être à nous engager et de quelle manière\, au nom de notre 
 foi (ou pas)... Ce temps se veut avant tout être un temps de partage\, qu
 i débouchera peut être pour ceux et celles qui le veulent sur des action
 s communes\n\nEnfin\, parce que c'est aussi l'occasion de se rencontrer en
 tre différents mouvements d’Église\, nous finirons par un petit pot !\
 n\nRendez vous donc le mardi 2 mai\, à 19h45\, à la Maison Magis\, 12 ru
 e d'Assas à Paris !\n\nTu peux t'inscrire pour nous permettre d'avoir de 
 la visibilité sur le nombre de participants.\n\nDe même\, si tu ne peux 
 pas venir le 2 mai\, mais souhaites être tenu au courant des suites\, ins
 cris toi !\n\nA bientôt !
ATTACH;FMTTYPE=image/jpeg:https://www.egliseverte.org/wp-content/uploads/2
 023/04/Visu-Reseaux-Soiree-2-mai.jpg
LOCATION:Maison Magis\, 12 rue d'Assas\, Paris\, France
GEO:48.849495;2.328212
X-APPLE-STRUCTURED-LOCATION;VALUE=URI;X-ADDRESS=12 rue d'Assas\, Paris\, Fr
 ance;X-APPLE-RADIUS=100;X-TITLE=Maison Magis:geo:48.849495,2.328212
END:VEVENT
BEGIN:VTIMEZONE
TZID:Europe/Paris
X-LIC-LOCATION:Europe/Paris
BEGIN:DAYLIGHT
DTSTART:20230326T030000
TZOFFSETFROM:+0100
TZOFFSETTO:+0200
TZNAME:CEST
END:DAYLIGHT
END:VTIMEZONE
END:VCALENDAR