BEGIN:VCALENDAR
VERSION:2.0
PRODID:-//wp-events-plugin.com//7.2.3.1//EN
TZID:Europe/Paris
X-WR-TIMEZONE:Europe/Paris
BEGIN:VEVENT
UID:534@egliseverte.org
DTSTART;TZID=Europe/Paris:20250920T093000
DTEND;TZID=Europe/Paris:20250920T120000
DTSTAMP:20250902T102400Z
URL:https://www.egliseverte.org/agenda/ramassage-de-dechets-abandonnes-ste
 -genevieve-des-bois-91/
SUMMARY:Ramassage de déchets abandonnés Ste Geneviève des Bois (91)
DESCRIPTION:Ramassage de déchets autour de notre église\, inscriptions su
 r le site du World Clean-up Day.\nhttps://www.worldcleanupday.fr/
ATTACH;FMTTYPE=image/jpeg:https://www.egliseverte.org/wp-content/uploads/2
 025/09/Affiche-World-Clean-up-Day-20-sept.-2025_page-0001.jpg
LOCATION:Église Protestante unie de la Vallée de l'Orge (91)\, 1 rue Fré
 déric Joliot-Curie\, Sainte-Geneviève-sous-Bois\, Essonne\, 91700\, Ile 
 de France\, France
GEO:48.644651;2.346445
X-APPLE-STRUCTURED-LOCATION;VALUE=URI;X-ADDRESS=1 rue Frédéric Joliot-Cur
 ie\, Sainte-Geneviève-sous-Bois\, Essonne\, 91700\, Ile de France\, Franc
 e;X-APPLE-RADIUS=100;X-TITLE=Église Protestante unie de la Vallée de l'O
 rge (91):geo:48.644651,2.346445
END:VEVENT
BEGIN:VTIMEZONE
TZID:Europe/Paris
X-LIC-LOCATION:Europe/Paris
BEGIN:DAYLIGHT
DTSTART:20250330T030000
TZOFFSETFROM:+0100
TZOFFSETTO:+0200
TZNAME:CEST
END:DAYLIGHT
END:VTIMEZONE
END:VCALENDAR