BEGIN:VCALENDAR
VERSION:2.0
PRODID:-//wp-events-plugin.com//7.2.3.1//EN
TZID:Europe/Paris
X-WR-TIMEZONE:Europe/Paris
BEGIN:VEVENT
UID:504@egliseverte.org
DTSTART;TZID=Europe/Paris:20251024T140000
DTEND;TZID=Europe/Paris:20251024T210000
DTSTAMP:20250917T143815Z
URL:https://www.egliseverte.org/agenda/rassemblement-poitou/
SUMMARY:Rassemblement des Églises vertes du Poitou & voisins
DESCRIPTION:Journée spéciale à Chauray\, salle polyvalente\, 66 rue Vict
 or :\n\nAprès-midi ouvert à tous (membres actifs\, sympathisants\, paroi
 ssiens\, ...)\n\n14h à 16h : Accueil\, Introduction\, 10 ans de l’encyc
 lique du Pape François\nPrésentation de chaque paroisse (actions\, ...) 
 :\n\nCovoiturage pour se rendre à l’église. Voir le plan.\n➢ 16h15 
 à 16h50/17h : visite du temple puis de l’église présentée par J.Pier
 re GUILLON\n➢ 17h à 17h30 : temps de prière ou liturgie de la parole 
 à l’église de Chauray\, P. Michel\n➢ 18h : Retour vers la salle (Cov
 oiturage)\, sinon messe à l’église de Chauray pour ceux qui souhaitent
 \n➢ 18h à 20h : Soirée de partage à la salle\nEchange sous forme de 
 « tables rondes » autour de questions :\n▪ Comment faire « Église ve
 rte » ensemble ?\n▪ Qu’est-ce qui marche / ne marche pas ?\n▪ Comme
 nt fédérer les paroissiens ?\n▪ Quelles actions pour la suite ?\n\n➢
  20h15 : apéritif et grignotages\n➢ 21h : Fin de la rencontre\n\n&nbsp\
 ;\n\n&nbsp\;
ATTACH;FMTTYPE=image/jpeg:https://www.egliseverte.org/wp-content/uploads/2
 025/07/Rassemblement-Eglise-verte-du-24-octobre-2025-a-Chauray_page-0001-s
 caled.jpg
LOCATION:Chauray (79)\, (lieu à préciser)\, CHAURAY \, deux sevres \, 791
 80\, France
GEO:46.360714;-0.37488
X-APPLE-STRUCTURED-LOCATION;VALUE=URI;X-ADDRESS=(lieu à préciser)\, CHAUR
 AY \, deux sevres \, 79180\, France;X-APPLE-RADIUS=100;X-TITLE=Chauray (79
 ):geo:46.360714,-0.37488
END:VEVENT
BEGIN:VTIMEZONE
TZID:Europe/Paris
X-LIC-LOCATION:Europe/Paris
BEGIN:DAYLIGHT
DTSTART:20250330T030000
TZOFFSETFROM:+0100
TZOFFSETTO:+0200
TZNAME:CEST
END:DAYLIGHT
END:VTIMEZONE
END:VCALENDAR