BEGIN:VCALENDAR
VERSION:2.0
PRODID:-//wp-events-plugin.com//7.2.3.1//EN
TZID:Europe/Paris
X-WR-TIMEZONE:Europe/Paris
BEGIN:VEVENT
UID:537@egliseverte.org
DTSTART;TZID=Europe/Paris:20250925T180000
DTEND;TZID=Europe/Paris:20250925T210000
DTSTAMP:20250904T092439Z
URL:https://www.egliseverte.org/agenda/rencontre-autour-du-vivant-aperitif
 -festif/
SUMMARY:Rencontre autour du Vivant\, Temps pour la Création
DESCRIPTION:Pour une rencontre autour du Vivant\, à la découverte du proj
 et qui relie la Maison et ses jardins. Un temps à partager ensemble et su
 ivi d\\'un apéritif festif.
ATTACH;FMTTYPE=image/jpeg:https://www.egliseverte.org/wp-content/uploads/2
 025/09/1_Invitation-Rencontre-autour-du-vivant-25-septembre-2025_A.png
LOCATION:Maison Assomption Lourdes (65)\, 21 avenue Antoine Béguère\, Lou
 rdes\, Hautes-Pyrénées\, 65100\, Occitanie\, France
GEO:43.10124;-0.058767
X-APPLE-STRUCTURED-LOCATION;VALUE=URI;X-ADDRESS=21 avenue Antoine Béguère
 \, Lourdes\, Hautes-Pyrénées\, 65100\, Occitanie\, France;X-APPLE-RADIUS
 =100;X-TITLE=Maison Assomption Lourdes (65):geo:43.10124,-0.058767
END:VEVENT
BEGIN:VTIMEZONE
TZID:Europe/Paris
X-LIC-LOCATION:Europe/Paris
BEGIN:DAYLIGHT
DTSTART:20250330T030000
TZOFFSETFROM:+0100
TZOFFSETTO:+0200
TZNAME:CEST
END:DAYLIGHT
END:VTIMEZONE
END:VCALENDAR