BEGIN:VCALENDAR
VERSION:2.0
PRODID:-//wp-events-plugin.com//7.2.3.1//EN
TZID:Europe/Paris
X-WR-TIMEZONE:Europe/Paris
BEGIN:VEVENT
UID:264@egliseverte.org
DTSTART;TZID=Europe/Paris:20230317T180000
DTEND;TZID=Europe/Paris:20230317T203000
DTSTAMP:20231120T160757Z
URL:https://www.egliseverte.org/agenda/rencontre-des-paroisses-labellisees
 -et-sympathisantes-en-vendee/
SUMMARY:Rencontre des paroisses labellisées et sympathisantes en Vendée
DESCRIPTION:Cette première œcuménique pour le département va permettre 
 de se rencontrer\, de partager expériences et projets de chacun\, d’avo
 ir des informations nationales aussi et de réfléchir à la communication
  et à des possibles actions communes.
ATTACH;FMTTYPE=image/jpeg:https://www.egliseverte.org/wp-content/uploads/2
 023/03/affiche-17-mars-23_page-0001.jpg
LOCATION:Maison du diocèse\, 62 Rue Marechal Joffre\, La Roche sur Yon\, F
 rance\, 85000\, pays de Loire  \, France
GEO:46.667454;-1.425212
X-APPLE-STRUCTURED-LOCATION;VALUE=URI;X-ADDRESS=62 Rue Marechal Joffre\, La
  Roche sur Yon\, France\, 85000\, pays de Loire  \, France;X-APPLE-RADIUS=
 100;X-TITLE=Maison du diocèse:geo:46.667454,-1.425212
END:VEVENT
BEGIN:VTIMEZONE
TZID:Europe/Paris
X-LIC-LOCATION:Europe/Paris
BEGIN:STANDARD
DTSTART:20221030T020000
TZOFFSETFROM:+0200
TZOFFSETTO:+0100
TZNAME:CET
END:STANDARD
END:VTIMEZONE
END:VCALENDAR