BEGIN:VCALENDAR
VERSION:2.0
PRODID:-//wp-events-plugin.com//7.2.3.1//EN
TZID:Europe/Paris
X-WR-TIMEZONE:Europe/Paris
BEGIN:VEVENT
UID:526@egliseverte.org
DTSTART;TZID=Europe/Paris:20251122T093000
DTEND;TZID=Europe/Paris:20251122T173000
DTSTAMP:20250919T095120Z
URL:https://www.egliseverte.org/agenda/rencontre-eglises-vertes-35-et-equi
 pes-laudato-si-dille-et-vilaine/
SUMMARY:Rencontre Eglises vertes 35 et équipes Laudato si’ d’Ille-et-V
 ilaine
DESCRIPTION:"Réunissons-nous pour le soin de la Création !"\n3ème Rencon
 tre Eglises vertes 35 et équipes Laudato si’ d’Ille-et-Vilaine.\nAu p
 rogramme :\n- prière accompagnée de chants de Taizé\,\n- conférence é
 co-spirituelle sur le thème “Comment aborder la crise écolo spirituell
 ement et avec quelles ressources chrétiennes ?” par Charlotte Mijeon\, 
 étudiante en théologie protestante et future pasteure (Eglise protestant
 e unie de France)\n- repas tiré du sac\n- ateliers aux choix\, l’après
 -midi (Fresque du climat\, Travail qui relie\, Marche du temps profond\, V
 idéo-Débat)\nInvitation ouverte largement à toutes les personnes et com
 munautés intéressées\, même si elles n’ont pas (encore) de groupe lo
 cal.\n\neglisesvertes35@orange.fr
ATTACH;FMTTYPE=image/jpeg:https://www.egliseverte.org/wp-content/uploads/2
 025/09/Affiche_RencontreEV35_v2.png
LOCATION:Paroisse Frédéric Ozanam - site de St Jean-Marie Vianney (35)\, 
 place d’Erlangen\, Rennes\, Ille-et-Vilaine\, 35700\, Bretagne\, France
GEO:48.130432;-1.659324
X-APPLE-STRUCTURED-LOCATION;VALUE=URI;X-ADDRESS=place d’Erlangen\, Rennes
 \, Ille-et-Vilaine\, 35700\, Bretagne\, France;X-APPLE-RADIUS=100;X-TITLE=
 Paroisse Frédéric Ozanam - site de St Jean-Marie Vianney (35):geo:48.130
 432,-1.659324
END:VEVENT
BEGIN:VTIMEZONE
TZID:Europe/Paris
X-LIC-LOCATION:Europe/Paris
BEGIN:STANDARD
DTSTART:20251026T020000
TZOFFSETFROM:+0200
TZOFFSETTO:+0100
TZNAME:CET
END:STANDARD
END:VTIMEZONE
END:VCALENDAR