BEGIN:VCALENDAR
VERSION:2.0
PRODID:-//wp-events-plugin.com//7.2.3.1//EN
TZID:Europe/Paris
X-WR-TIMEZONE:Europe/Paris
BEGIN:VEVENT
UID:538@egliseverte.org
DTSTART;TZID=Europe/Paris:20250927T150000
DTEND;TZID=Europe/Paris:20250927T170000
DTSTAMP:20250903T092025Z
URL:https://www.egliseverte.org/agenda/rencontre-le-climat-notre-bien-comm
 un/
SUMMARY:Rencontre "Le climat\, notre bien commun"
DESCRIPTION:animation par Paola Marson\, climatologue à Météo France
ATTACH;FMTTYPE=image/jpeg:https://www.egliseverte.org/wp-content/uploads/2
 025/08/4-temps.webp
LOCATION:Eglise St Exupère de Toulouse (31) (métro Palais de justice)\, 6
  rue Lamarck\, Toulouse\, France\, 31400\, Occitanie\, France
GEO:43.593818;1.448709
X-APPLE-STRUCTURED-LOCATION;VALUE=URI;X-ADDRESS=6 rue Lamarck\, Toulouse\, 
 France\, 31400\, Occitanie\, France;X-APPLE-RADIUS=100;X-TITLE=Eglise St E
 xupère de Toulouse (31) (métro Palais de justice):geo:43.593818,1.448709
END:VEVENT
BEGIN:VTIMEZONE
TZID:Europe/Paris
X-LIC-LOCATION:Europe/Paris
BEGIN:DAYLIGHT
DTSTART:20250330T030000
TZOFFSETFROM:+0100
TZOFFSETTO:+0200
TZNAME:CEST
END:DAYLIGHT
END:VTIMEZONE
END:VCALENDAR