BEGIN:VCALENDAR
VERSION:2.0
PRODID:-//wp-events-plugin.com//7.2.3.1//EN
TZID:Europe/Paris
X-WR-TIMEZONE:Europe/Paris
BEGIN:VEVENT
UID:565@egliseverte.org
DTSTART;TZID=Europe/Paris:20251004T120000
DTEND;TZID=Europe/Paris:20251004T163000
DTSTAMP:20250915T141330Z
URL:https://www.egliseverte.org/agenda/rencontre-oecumenique-temps-pour-la
 -creation/
SUMMARY:Rencontre œcuménique Temps pour la Création
DESCRIPTION:Repas partagé\, débats\, jeux et louange
ATTACH;FMTTYPE=image/jpeg:https://www.egliseverte.org/wp-content/uploads/2
 025/09/1000042675-1-e1757945587243.png
LOCATION:Eglise protestante unie de la Vallée de l'Orge\, Rue Frédéric J
 oliot Curie\, Sainte Geneviève des Bois\, Essonne\, 91700\, France
GEO:48.643751;2.347517
X-APPLE-STRUCTURED-LOCATION;VALUE=URI;X-ADDRESS=Rue Frédéric Joliot Curie
 \, Sainte Geneviève des Bois\, Essonne\, 91700\, France;X-APPLE-RADIUS=10
 0;X-TITLE=Eglise protestante unie de la Vallée de l'Orge:geo:48.643751,2.
 347517
END:VEVENT
BEGIN:VTIMEZONE
TZID:Europe/Paris
X-LIC-LOCATION:Europe/Paris
BEGIN:DAYLIGHT
DTSTART:20250330T030000
TZOFFSETFROM:+0100
TZOFFSETTO:+0200
TZNAME:CEST
END:DAYLIGHT
END:VTIMEZONE
END:VCALENDAR