BEGIN:VCALENDAR
VERSION:2.0
PRODID:-//wp-events-plugin.com//7.2.3.1//EN
TZID:Europe/Paris
X-WR-TIMEZONE:Europe/Paris
BEGIN:VEVENT
UID:552@egliseverte.org
DTSTART;TZID=Europe/Paris:20251002T203000
DTEND;TZID=Europe/Paris:20251002T223000
DTSTAMP:20250911T080057Z
URL:https://www.egliseverte.org/agenda/rencontres-clameurs/
SUMMARY:Rencontres Clameurs
DESCRIPTION:Le groupe Église verte de la paroisse Saint-Sébastien propose
  des rencontres "Clameurs - La série habitée par Laudato Si'" les jeudis
  2\, 9 et 16 octobre de 20h30 à 22h30 à la salle de La Sainte Famille à
  Beautour (98\, route de Fontenelle - Vertou) cf. PJ.
ATTACH;FMTTYPE=image/jpeg:https://www.egliseverte.org/wp-content/uploads/2
 025/09/Affiche-Clameurs-2025.jpg
LOCATION:Salle de La Sainte Famille (44)\, 98\, route de Fontenelle\, Verto
 u\, Loire-Atlantique\, 44120\, Pays de Loire\, France
GEO:47.185537;-1.503714
X-APPLE-STRUCTURED-LOCATION;VALUE=URI;X-ADDRESS=98\, route de Fontenelle\, 
 Vertou\, Loire-Atlantique\, 44120\, Pays de Loire\, France;X-APPLE-RADIUS=
 100;X-TITLE=Salle de La Sainte Famille (44):geo:47.185537,-1.503714
END:VEVENT
BEGIN:VTIMEZONE
TZID:Europe/Paris
X-LIC-LOCATION:Europe/Paris
BEGIN:DAYLIGHT
DTSTART:20250330T030000
TZOFFSETFROM:+0100
TZOFFSETTO:+0200
TZNAME:CEST
END:DAYLIGHT
END:VTIMEZONE
END:VCALENDAR