BEGIN:VCALENDAR
VERSION:2.0
PRODID:-//wp-events-plugin.com//7.2.3.1//EN
TZID:Europe/Paris
X-WR-TIMEZONE:Europe/Paris
BEGIN:VEVENT
UID:408@egliseverte.org
DTSTART;TZID=Europe/Paris:20240929T160000
DTEND;TZID=Europe/Paris:20240929T170000
DTSTAMP:20240927T180524Z
URL:https://www.egliseverte.org/agenda/rendez-vous-poetique-et-musical-jea
 n-giono/
SUMMARY:Rendez-vous poétique et musical "Et nous planterons des arbres"\, 
 d'après la nouvelle de Jean GIONO (42)
DESCRIPTION:Un rendez-vous poétique original : « Et nous planterons des a
 rbres… »\nDivertissement proposé par le groupe paroissial Église vert
 e pour le Temps pour la Création 2024\n\nCette année\, le groupe paroiss
 ial « Église verte » propose un divertissement inspiré de la nouvelle 
 de Jean Giono « L’homme qui plantait des arbres ». Cette nouvelle est 
 considérée comme une parabole de l'action positive de l'homme sur son mi
 lieu et de l'harmonie qui peut s'ensuivre.Elle est aujourd'hui reconnue co
 mme une œuvre majeure de la littérature d’enfance et de jeunesse\, emp
 reinte de poésie et d’espérance.\n\nLe divertissement proposé est une
  création originale\, où se rejoignent récit poétique\, chant et musiq
 ue\, qui sera interprétée par les auteurs\, tous trois membres de la par
 oisse Ste Claire Ste Thérèse en Forez :\nnarrateur : David Dantin\, aute
 ur-compositeur Danièle Mas\, guitaristes : Gilles Chomel et Danièle Mas.
ATTACH;FMTTYPE=image/jpeg:https://www.egliseverte.org/wp-content/uploads/2
 024/09/Lhomme-qui-plantait-des-arbreses-V4.jpg
LOCATION:Salle Pierre BOULEZ - Centre Musical\, Place des Visitandines\, MO
 NTBRISON\, 42600\, France
X-APPLE-STRUCTURED-LOCATION;VALUE=URI;X-ADDRESS=Place des Visitandines\, MO
 NTBRISON\, 42600\, France;X-APPLE-RADIUS=100;X-TITLE=Salle Pierre BOULEZ -
  Centre Musical:geo:0,0
END:VEVENT
BEGIN:VTIMEZONE
TZID:Europe/Paris
X-LIC-LOCATION:Europe/Paris
BEGIN:DAYLIGHT
DTSTART:20240331T030000
TZOFFSETFROM:+0100
TZOFFSETTO:+0200
TZNAME:CEST
END:DAYLIGHT
END:VTIMEZONE
END:VCALENDAR