BEGIN:VCALENDAR
VERSION:2.0
PRODID:-//wp-events-plugin.com//7.2.3.1//EN
TZID:Europe/Paris
X-WR-TIMEZONE:Europe/Paris
BEGIN:VEVENT
UID:451@egliseverte.org
DTSTART;TZID=Europe/Paris:20250307T190000
DTEND;TZID=Europe/Paris:20250307T223000
DTSTAMP:20250217T102459Z
URL:https://www.egliseverte.org/agenda/repas-partage-projection-la-lettre/
SUMMARY:Repas partagé et projection du film "La Lettre" un message pour no
 tre terre" (81)
DESCRIPTION:Vendredi 7 mars : salle du Pigné soirée repas partagé (19h) 
 et projection du film "La Lettre" (20h15)\n\nOuvert à tous de 7 à 77 ans
  et plus : l'équipe Église verte propose un repas partagé léger à 19H
 00 (apporter vos couverts et un plat simple) suivi à 20h15 de la projecti
 on du film : La lettre (de Laudato Si') un message pour notre Terre\, Cett
 e projection sera suivie d'un temps d'échange. Ce film traite de la mani
 ère dont les valeurs spirituelles nous appellent à agir face à la crise
  planétaire. Il se concentre sur un petit groupe de personnes venant des 
 quatre coins du monde. Elles rencontrent le pape François pour discuter d
 e la lettre encyclique Laudato Si’\, qui leur donne un nouvel espoir.
ATTACH;FMTTYPE=image/jpeg:https://www.egliseverte.org/wp-content/uploads/2
 022/10/FR_YT.jpg
LOCATION:Salle du Pigné\, 10 boulevard Salengro\, ALBI\, TARN\, 81000\, OC
 CITANIE\, France
X-APPLE-STRUCTURED-LOCATION;VALUE=URI;X-ADDRESS=10 boulevard Salengro\, ALB
 I\, TARN\, 81000\, OCCITANIE\, France;X-APPLE-RADIUS=100;X-TITLE=Salle du 
 Pigné:geo:0,0
END:VEVENT
BEGIN:VTIMEZONE
TZID:Europe/Paris
X-LIC-LOCATION:Europe/Paris
BEGIN:STANDARD
DTSTART:20241027T020000
TZOFFSETFROM:+0200
TZOFFSETTO:+0100
TZNAME:CET
END:STANDARD
END:VTIMEZONE
END:VCALENDAR