BEGIN:VCALENDAR
VERSION:2.0
PRODID:-//wp-events-plugin.com//7.2.3.1//EN
TZID:Europe/Paris
X-WR-TIMEZONE:Europe/Paris
BEGIN:VEVENT
UID:517@egliseverte.org
DTSTART;TZID=Europe/Paris;VALUE=DATE:20251011
DTEND;TZID=Europe/Paris;VALUE=DATE:20251013
DTSTAMP:20250903T092122Z
URL:https://www.egliseverte.org/agenda/retraite-avec-maurice-zundel-prophe
 te-pour-une-ecologie-integrale/
SUMMARY:Retraite avec Maurice Zundel\, prophète pour une écologie intégr
 ale ?
DESCRIPTION:La vie et l'oeuvre de Maurice Zundel (1897-1975)\, prêtre myst
 ique suisse\, dont nous fêtons cette année le cinquantième anniversaire
  du passage vers le Père\, sont une source d’inspiration inépuisable. 
 Nous pourrons découvrir ou redécouvrir une spiritualité de la création
  mise en valeur par sa découverte de la figure de François d’Assise et
  de la divine Pauvreté. Trois mots pour orienter ce temps : vivre\, expé
 rimenter\, célébrer.\nCette proposition s’adresse à tous ceux et cell
 es qui cherchent à approfondir une spiritualité écologique chrétienne.
 \n\nIntervenante :\nClaire BELLET ODENT\, membre du Conseil d’administra
 tion des Amis de Zundel\nthéologienne\, doctorante à l’université de 
 Louvain-la-Neuve\n(Belgique)\, formée par 30 ans de vie monastique.\n\nTa
 rif : 40 €\nTarif étudiant / chômeur / retraité : 25 €\n(le tarif n
 e prend pas en compte l’hébergement)\nRepas partagé le samedi midi\nRe
 pas du samedi soir et dimanche midi : 30 €\n\nHébergement au couvent de
  Vaylats\n100\, rue du Couvent 46230 VAYLATS\naccueil@couventdevaylats.fr 
 05 65 31 63 51\n\nhttps://centreheleneetjeanbastaire.fr/
ATTACH;FMTTYPE=image/jpeg:https://www.egliseverte.org/wp-content/uploads/2
 025/08/Logo-CHJB-Centre-BASTAIRE.png
LOCATION:Centre Hélène et Jean Bastaire (46)\, 190\, route de l'ancienne 
 école\, Berganty\, Lot\, 46090\, Occitanie\, France
GEO:44.449212;1.639576
X-APPLE-STRUCTURED-LOCATION;VALUE=URI;X-ADDRESS=190\, route de l'ancienne 
 école\, Berganty\, Lot\, 46090\, Occitanie\, France;X-APPLE-RADIUS=100;X-
 TITLE=Centre Hélène et Jean Bastaire (46):geo:44.449212,1.639576
END:VEVENT
BEGIN:VTIMEZONE
TZID:Europe/Paris
X-LIC-LOCATION:Europe/Paris
BEGIN:DAYLIGHT
DTSTART:20250330T030000
TZOFFSETFROM:+0100
TZOFFSETTO:+0200
TZNAME:CEST
END:DAYLIGHT
END:VTIMEZONE
END:VCALENDAR