BEGIN:VCALENDAR
VERSION:2.0
PRODID:-//wp-events-plugin.com//7.2.3.1//EN
TZID:Europe/Paris
X-WR-TIMEZONE:Europe/Paris
BEGIN:VEVENT
UID:663@egliseverte.org
DTSTART;TZID=Europe/Paris;VALUE=DATE:20260418
DTEND;TZID=Europe/Paris;VALUE=DATE:20260421
DTSTAMP:20260323T151239Z
URL:https://www.egliseverte.org/agenda/retraite-de-3-jours-entrer-dans-un-
 chemin-de-conversion-ecologique/
SUMMARY:Retraite de 3 jours "Entrer dans un chemin de conversion écologiqu
 e"
DESCRIPTION:3 jours pour "entrer dans un chemin de conversion écologique \
 ; plonger dans la Parole de Dieu et y trouver des ressources pour une conv
 ersion du cœur indispensable pour une véritable transition écologique"\
 nanimation donnée par Hélène NOISETTE\n\npréinscription avant le 7 avr
 il maisonparole@gmail.com\n\npréinscription pour le 7 avril 2026\nSœur H
 élène Noisette : Soeur auxiliatrice\, ingénieure agronome (Agro Montpel
 lier)\, licence canonique en théologie morale et pratique (Centre Sèvres
 \, aujourd’hui Facultés Loyola Paris)\, co-responsable du domaine d’
 éthique sociale et environnementale aux Facultés Loyola Paris
ATTACH;FMTTYPE=image/jpeg:https://www.egliseverte.org/wp-content/uploads/2
 026/03/Triduum-ecologie.jpg
LOCATION:Maison de la Parole\, 13 rue Porte Tavers\, BEAUGENCY\, Loiret\, 4
 5190\, Centre\, France
GEO:47.775558;1.632198
X-APPLE-STRUCTURED-LOCATION;VALUE=URI;X-ADDRESS=13 rue Porte Tavers\, BEAUG
 ENCY\, Loiret\, 45190\, Centre\, France;X-APPLE-RADIUS=100;X-TITLE=Maison 
 de la Parole:geo:47.775558,1.632198
END:VEVENT
BEGIN:VTIMEZONE
TZID:Europe/Paris
X-LIC-LOCATION:Europe/Paris
BEGIN:DAYLIGHT
DTSTART:20260329T030000
TZOFFSETFROM:+0100
TZOFFSETTO:+0200
TZNAME:CEST
END:DAYLIGHT
END:VTIMEZONE
END:VCALENDAR