BEGIN:VCALENDAR
VERSION:2.0
PRODID:-//wp-events-plugin.com//7.2.3.1//EN
TZID:Europe/Paris
X-WR-TIMEZONE:Europe/Paris
BEGIN:VEVENT
UID:466@egliseverte.org
DTSTART;TZID=Europe/Paris:20250528T000000
DTEND;TZID=Europe/Paris:20250602T000000
DTSTAMP:20250325T145333Z
URL:https://www.egliseverte.org/agenda/retraite-le-christ-vert-faire-aimer
 -la-creation-une-vocation-prophetique-72/
SUMMARY:Retraite Le Christ vert : "Faire aimer la Création\, une vocation 
 prophétique" (72)
DESCRIPTION:Tu as pris le chemin de la conversion écologique\, mais ta mot
 ivation faiblit ? Tu es convaincu que le sujet est urgent\, mais tu manque
 s d'idées pour t'engager concrètement ?\n\n=&gt\; LA RETRAITE LE CHRIST 
 VERT EST FAITE POUR TOI !\n\nNous t'invitons à venir te ressourcer à l'a
 bbaye Notre-Dame du Chêne (dans la Sarthe)\, lors du week-end de l'Ascens
 ion (28 mai - 2 juin).\nAu programme : prière\, travaux manuels\, re-conn
 exion au vivant\, topos du Père Etienne Grenet\, temps de silence\, parta
 ges... tout ce qu'il faut pour booster ton engagement écologique intégra
 l !\n\nLe programme détaillé et le lien d'inscription sont ici : www.lec
 hristvert.fr/laretraite\nInscris-toi vite avant le 24 avril !
ATTACH;FMTTYPE=image/jpeg:https://www.egliseverte.org/wp-content/uploads/2
 025/03/LCV-Retraite-Flyer.jpg
LOCATION:Abbaye Notre-Dame du Chêne\, 2 rue des Bleuets\, Vion\, Sarthe\, 
 72300\, Pays de la Loire\, France
X-APPLE-STRUCTURED-LOCATION;VALUE=URI;X-ADDRESS=2 rue des Bleuets\, Vion\, 
 Sarthe\, 72300\, Pays de la Loire\, France;X-APPLE-RADIUS=100;X-TITLE=Abba
 ye Notre-Dame du Chêne:geo:0,0
END:VEVENT
BEGIN:VTIMEZONE
TZID:Europe/Paris
X-LIC-LOCATION:Europe/Paris
BEGIN:DAYLIGHT
DTSTART:20250330T030000
TZOFFSETFROM:+0100
TZOFFSETTO:+0200
TZNAME:CEST
END:DAYLIGHT
END:VTIMEZONE
END:VCALENDAR