BEGIN:VCALENDAR
VERSION:2.0
PRODID:-//wp-events-plugin.com//7.2.3.1//EN
TZID:Europe/Paris
X-WR-TIMEZONE:Europe/Paris
BEGIN:VEVENT
UID:341@egliseverte.org
DTSTART;TZID=Europe/Paris:20240728T000000
DTEND;TZID=Europe/Paris:20240803T000000
DTSTAMP:20240712T095914Z
URL:https://www.egliseverte.org/agenda/retraite-spirituelle-avec-dominique
 -lang-en-chemin-vers-une-conversion-ecologique-65/
SUMMARY:Retraite spirituelle avec Dominique Lang "En chemin vers une conver
 sion écologique" (65)
DESCRIPTION:Il s'agit d'une Retraite spirituelle de cinq jours complets du 
 dimanche 28 juillet (19 h) au samedi 3 août (10 h) ayant pour thème "en 
 chemin vers une conversion écologique" animée par le Père Dominique LAN
 G\, assomptionniste (en silence).\n\nElle aura lieu au Centre spirituel d'
 Accueil et de Formation porté par les Religieuses de l'Assomption et une 
 Équipe de laïcs et qui organise chaque année un ensemble de proposition
 s dont les Retraites surtout en été.\n\nInscriptions et détails sur ce 
 tract ou en appelant le 05 62 94 37 34.\n\nRendez-vous sur www.assomption-
 lourdes.com pour plus d'informations.
ATTACH;FMTTYPE=image/jpeg:https://www.egliseverte.org/wp-content/uploads/2
 024/04/dominique-lang.webp
LOCATION:CENTRE ASSOMPTION\, 21\, avenue Antoine Béguère\, LOURDES\, HAUT
 ES-PYRENNEES\, 65100\, AQUITAINE\, France
X-APPLE-STRUCTURED-LOCATION;VALUE=URI;X-ADDRESS=21\, avenue Antoine Béguè
 re\, LOURDES\, HAUTES-PYRENNEES\, 65100\, AQUITAINE\, France;X-APPLE-RADIU
 S=100;X-TITLE=CENTRE ASSOMPTION:geo:0,0
END:VEVENT
BEGIN:VTIMEZONE
TZID:Europe/Paris
X-LIC-LOCATION:Europe/Paris
BEGIN:DAYLIGHT
DTSTART:20240331T030000
TZOFFSETFROM:+0100
TZOFFSETTO:+0200
TZNAME:CEST
END:DAYLIGHT
END:VTIMEZONE
END:VCALENDAR