BEGIN:VCALENDAR
VERSION:2.0
PRODID:-//wp-events-plugin.com//7.2.3.1//EN
TZID:Europe/Paris
X-WR-TIMEZONE:Europe/Paris
BEGIN:VEVENT
UID:683@egliseverte.org
DTSTART;TZID=Europe/Paris:20260506T193000
DTEND;TZID=Europe/Paris:20260506T220000
DTSTAMP:20260417T111856Z
URL:https://www.egliseverte.org/agenda/retrouver-sens-pouvoir-agir-service
 -societe-juste-durable/
SUMMARY:Retrouver sens et pouvoir d'agir au service d'une société plus ju
 ste et durable
DESCRIPTION:Les Facultés Loyola Paris\, la province Jésuite et le mouveme
 nt Eccleria vous invitent à une conférence avec Matthieu Dardaillon\, au
 tour des enjeux de sens\, d’engagement et de transition écologique et s
 ociale\, en dialogue avec la spiritualité ignatienne.\n\nMatthieu Dardail
 lon est un entrepreneur\, auteur et conférencier qui cherche à donner du
  pouvoir d’agir pour faire émerger une société plus juste et plus dur
 able.\n\nDans son livre Anti-chaos\, il propose des pistes concrètes pour
  sortir du sentiment d’impuissance\, retrouver une boussole intérieure 
 et avancer avec plus de clarté dans un monde complexe.\n\nLa soirée sera
  animée par Agnès Mannooretonil\, rédactrice en chef adjointe de la rev
 ue Christus\, qui aidera à explorer les résonances entre cette approche 
 et la spiritualité ignatienne.\n\n📅 Mercredi 6 mai 2026 à 19h30\n📍
  Facultés Loyola Paris\n🎟 Conférence gratuite – inscription obligat
 oire\n\n👉 Lien d’inscription : https://membres.eccleria.fr/collect/de
 scription/699777-v-inscriptions-conference-6-mai-2026-19h30-aux-facultes-l
 ovola-paris
ATTACH;FMTTYPE=image/jpeg:https://www.egliseverte.org/wp-content/uploads/2
 026/04/Conference-Matthieu-Dardaillon-Facultes-Loyola.png
LOCATION:Facultés Loyola\, 35 bis rue de Sèvres \, Paris\, 75006\, France
GEO:48.85071;2.325848
X-APPLE-STRUCTURED-LOCATION;VALUE=URI;X-ADDRESS=35 bis rue de Sèvres \, Pa
 ris\, 75006\, France;X-APPLE-RADIUS=100;X-TITLE=Facultés Loyola:geo:48.85
 071,2.325848
END:VEVENT
BEGIN:VTIMEZONE
TZID:Europe/Paris
X-LIC-LOCATION:Europe/Paris
BEGIN:DAYLIGHT
DTSTART:20260329T030000
TZOFFSETFROM:+0100
TZOFFSETTO:+0200
TZNAME:CEST
END:DAYLIGHT
END:VTIMEZONE
END:VCALENDAR