BEGIN:VCALENDAR
VERSION:2.0
PRODID:-//wp-events-plugin.com//7.2.3.1//EN
TZID:Europe/Paris
X-WR-TIMEZONE:Europe/Paris
BEGIN:VEVENT
UID:226@egliseverte.org
DTSTART;TZID=Europe/Paris:20220928T200000
DTEND;TZID=Europe/Paris:20220928T220000
DTSTAMP:20231120T160630Z
URL:https://www.egliseverte.org/agenda/soiree-dintroduction-du-groupe-de-j
 eunes-laudato-si/
SUMMARY:Soirée d'introduction du groupe de jeunes Laudato Si' (13)
DESCRIPTION:Salut !\nNous sommes heureux de t'accueillir pour le lancement 
 de la 4ème saison du Parcours Laudato Si' de jeunes pro à Marseille !\nC
 e sera l'occasion de découvrir ce qu'on y fait\, et de rencontrer les fut
 urs participants autour d'un verre.\nRDV à 20h à la DDEC (Direction Dioc
 ésaine de l'Enseignement Catholique\, 16 Blvd Chave)\, avec quelque chose
  à grignoter ou à boire. Soyez ponctuels svp\, pour éviter que la soir
 ée ne s'éternise trop !\n\nLien de l'évènement sur fb : https://fb.me/
 e/3qcRArXLf\nLien pour t'inscrire (à faire\, si possible avant le début 
 de la soirée) : https://docs.google.com/forms/d/e/1FAIpQLSfulxU-OaPduw8w7
 6MdGNUCp-4KQHCg6ZcZmDJRcjm68g13Cw/viewform?fbclid=IwAR30GwKQG-vZUo3Pr0fhl9
 eSv8cQ-VeO9wEoYKT8rE5sIPx2q-Cs3PWXdN8
ATTACH;FMTTYPE=image/jpeg:https://www.egliseverte.org/wp-content/uploads/2
 022/09/306507127_10225923384444169_1170602559754395169_n.jpg
LOCATION:Direction Diocésaine de l'Enseignement Catholique\, 16 Boulevard 
 Chave\, Marseille\, 13005\, France
GEO:43.294887;5.388025
X-APPLE-STRUCTURED-LOCATION;VALUE=URI;X-ADDRESS=16 Boulevard Chave\, Marsei
 lle\, 13005\, France;X-APPLE-RADIUS=100;X-TITLE=Direction Diocésaine de l
 'Enseignement Catholique:geo:43.294887,5.388025
END:VEVENT
BEGIN:VTIMEZONE
TZID:Europe/Paris
X-LIC-LOCATION:Europe/Paris
BEGIN:DAYLIGHT
DTSTART:20220327T030000
TZOFFSETFROM:+0100
TZOFFSETTO:+0200
TZNAME:CEST
END:DAYLIGHT
END:VTIMEZONE
END:VCALENDAR