BEGIN:VCALENDAR
VERSION:2.0
PRODID:-//wp-events-plugin.com//7.2.3.1//EN
TZID:Europe/Paris
X-WR-TIMEZONE:Europe/Paris
BEGIN:VEVENT
UID:660@egliseverte.org
DTSTART;TZID=Europe/Paris:20260712T000000
DTEND;TZID=Europe/Paris:20260718T000000
DTSTAMP:20260302T172021Z
URL:https://www.egliseverte.org/agenda/sejour-aventure-ados-pour-les-12-16
 -ans/
SUMMARY:Séjour Aventure-Ados pour les 12-16 ans
DESCRIPTION:La possibilité de se dépasser aux Courmettes c’est la prome
 sse d’un dépaysement garanti ! Pendant ce camp en pleine nature\, nous 
 aurons l’occasion de faire des grands jeux\, des bivouacs\, de la randon
 née\, des activités sportives\, toutes autant géniales les unes que les
  autres pour garantir des vraies vacances !\n\nAventure-Ados c'est le frui
 t d'un partenariat entre les Séjours de la Ligue\, organisés par le Riml
 ishof et l'association A Rocha. Il est donc guidé par les principes et le
 s buts de ces deux organismes.\nL'intention est de proposer aux adolescent
 s différentes activités les sensibilisant à l'environnement (animal\, v
 égétal et minéral)\, découvrir dans la Bible le Dieu créateur afin de
  les inviter à réfléchir à leurs propres comportements avec ces éclai
 rages particuliers.\n\nC'est un camp alliant activités sportives et de pl
 eine nature : c'est à dire des aventures en perspectives.\n\nC'est un cad
 re idéal pour décliner les intentions pour ce séjour à savoir :\n- Res
 ponsabilisation : Permettre à l'adolescent d’être acteur de son séjou
 r\, et en finalité aussi de sa propre vie.\n- Autonomie : Permettre à l'
 adolescent d’appréhender au mieux sa vie future et d’assurer lui-mêm
 e des actes simples de la vie quotidienne.\n- Vivre ensemble : Permettre 
 à l'adolescent de s’intégrer dans un groupe dans le respect des uns et
  des autres\, mais aussi dans le respect de l’environnement qui l’ento
 ure.\n- Connaissance de soi : Permettre à l'adolescent de découvrir qui 
 il est\, d’affirmer ses convictions et de savoir se positionner de mani
 ère réfléchie face à des questionnements qui peuvent amener le débat.
 \n\nhttps://www.sejoursllb.org/aventure-ados
ATTACH;FMTTYPE=image/jpeg:https://www.egliseverte.org/wp-content/uploads/2
 026/03/Aventure1-1.jpg
LOCATION:Domaine des Courmettes (06)\, 4500 route des Courmettes\, Tourrett
 es-sur-Loup\, Alpes Maritimes\, 06140 \, Provence-Alpes-Côte d'Azur\, Fra
 nce
GEO:43.717249;7.020235
X-APPLE-STRUCTURED-LOCATION;VALUE=URI;X-ADDRESS=4500 route des Courmettes\,
  Tourrettes-sur-Loup\, Alpes Maritimes\, 06140 \, Provence-Alpes-Côte d'A
 zur\, France;X-APPLE-RADIUS=100;X-TITLE=Domaine des Courmettes (06):geo:43
 .717249,7.020235
END:VEVENT
BEGIN:VTIMEZONE
TZID:Europe/Paris
X-LIC-LOCATION:Europe/Paris
BEGIN:DAYLIGHT
DTSTART:20260329T030000
TZOFFSETFROM:+0100
TZOFFSETTO:+0200
TZNAME:CEST
END:DAYLIGHT
END:VTIMEZONE
END:VCALENDAR