BEGIN:VCALENDAR
VERSION:2.0
PRODID:-//wp-events-plugin.com//7.2.3.1//EN
TZID:Europe/Paris
X-WR-TIMEZONE:Europe/Paris
BEGIN:VEVENT
UID:659@egliseverte.org
DTSTART;TZID=Europe/Paris:20260712T000000
DTEND;TZID=Europe/Paris:20260718T000000
DTSTAMP:20260302T171908Z
URL:https://www.egliseverte.org/agenda/sejour-eco-aventure-pour-les-7-11-a
 ns/
SUMMARY:Séjour Eco-aventure pour les 7-11 ans
DESCRIPTION:Éco-Aventure\, c’est une semaine passionnante en contact ave
 c la nature : une vie en plein air\, organisée autour du campement pour s
 ensibiliser à la biodiversité et au respect de l'environnement. Éco-Ave
 nture\, c'est une semaine inoubliable à la découverte de la faune et la 
 flore des montagnes\, à bricoler utile et renouvelable\, à partir à l
 ’aventure...\n\nLe séjour Éco-Aventure est le fruit d'un partenariat e
 ntre les Séjours de la Ligue\, organisés par le Rimlishof et l'associati
 on A Rocha. Il est donc guidé par les principes et les buts de ces deux o
 rganismes.\nL'intention est de proposer aux enfants différentes activité
 s les sensibilisant à l'environnement (animal\, végétal et minéral)\, 
 découvrir dans la Bible le Dieu créateur afin de les inviter à réfléc
 hir à leurs propres comportements avec ces éclairages particuliers.\n\nP
 rogramme\n\nLes activités nature\nLes activités de découverte de la flo
 re locale\, la faune sauvage ou d'élevage\, la découverte des étoiles\,
  celles liées à la problématique des déchets\, la gestion de l'énergi
 e sont au programme quotidiennement. Elles sont encadrées par des interve
 nants experts dans leur domaine. Les activités nature nourrissent ainsi t
 out l'imaginaire des animations : les intentions pédagogiques et ludiques
  de l’ensemble de la semaine. Les enfants font donc des découvertes ég
 alement au travers des grands jeux et des veillées de la colo. Voici des 
 exemples d'activités faites les dernières années : une randonnée avec 
 les ânes\, la visite d'une ferme\, une rencontre avec un apiculteur\, un 
 tour à la mer... Chaque année\, les activités changent.\n\nDes activit
 és créatives\nDe la même manière\, les enfants ont l'occasion de laiss
 er libre cours à leur créativité avec des activités privilégiant l'ut
 ilisation d'éléments naturels.\n\nLes animations bibliques\nLes animatio
 ns bibliques se déroulent dans le respect des croyances de chacun avec un
 e accroche ludique\, la découverte d'un texte\, des discussions et du cha
 nt. Elles sont l'occasion d'apprendre à mieux connaître les merveilles d
 e la création \; de découvrir dans la Bible le Dieu créateur\, ses proj
 ets pour notre vie et ce qu’il nous appelle à faire pour prendre soin d
 e tout ce qu’il a créé.\n\nLa vie quotidienne\nDurant ce séjour\, les
  enfants ont le privilège de participer à différentes taches de la vie 
 quotidienne comme mettre la table et faire la vaisselle avec comme objecti
 fs de favoriser l'entraide et développer leur autonomie. La sensibilisati
 on à la protection de l'environnement a aussi toute sa place dans ce doma
 ine.\n\nLa journée est aussi ponctuée de temps libres pendant lesquels d
 es jeux de société\, livres\, jeux sportifs sont à disposition.\n\nhttp
 s://www.sejoursllb.org/eco-aventure
ATTACH;FMTTYPE=image/jpeg:https://www.egliseverte.org/wp-content/uploads/2
 026/03/Aventure1.jpg
LOCATION:Domaine des Courmettes (06)\, 4500 route des Courmettes\, Tourrett
 es-sur-Loup\, Alpes Maritimes\, 06140 \, Provence-Alpes-Côte d'Azur\, Fra
 nce
GEO:43.717249;7.020235
X-APPLE-STRUCTURED-LOCATION;VALUE=URI;X-ADDRESS=4500 route des Courmettes\,
  Tourrettes-sur-Loup\, Alpes Maritimes\, 06140 \, Provence-Alpes-Côte d'A
 zur\, France;X-APPLE-RADIUS=100;X-TITLE=Domaine des Courmettes (06):geo:43
 .717249,7.020235
END:VEVENT
BEGIN:VTIMEZONE
TZID:Europe/Paris
X-LIC-LOCATION:Europe/Paris
BEGIN:DAYLIGHT
DTSTART:20260329T030000
TZOFFSETFROM:+0100
TZOFFSETTO:+0200
TZNAME:CEST
END:DAYLIGHT
END:VTIMEZONE
END:VCALENDAR