BEGIN:VCALENDAR
VERSION:2.0
PRODID:-//wp-events-plugin.com//7.2.3.1//EN
TZID:Europe/Paris
X-WR-TIMEZONE:Europe/Paris
BEGIN:VEVENT
UID:658@egliseverte.org
DTSTART;TZID=Europe/Paris:20260705T000000
DTEND;TZID=Europe/Paris:20260711T000000
DTSTAMP:20260302T171800Z
URL:https://www.egliseverte.org/agenda/sejour-nature-a-milin-kerhe/
SUMMARY:Séjour Nature à Milin Kerhé
DESCRIPTION:Venez passer une semaine seul\, en couple ou en famille\, pour 
 observer\, identifier et prendre soin de la faune et de la flore locale. C
 e séjour est fait pour tous les âges\, pour apprendre comment vivre de m
 anière plus durable tout en honorant Dieu et en prenant soin de sa créat
 ion. Profitez également de la communauté chaleureuse et multiculturelle 
 sur ce camping écologique au milieu de la nature dans la magnifique vall
 ée du Trieux. Ce séjour sera bilingue : français et anglais.\n\nInfos p
 ratiques :\n- Prenez votre tente / caravane / camping-car et installez-vou
 s sur un des 60 emplacements nus.\n- Avec un groupe d’un vingtaine d’a
 utres campeurs ‘A Rocha’\, participez aux activités écologiques quot
 idiennes et aux moments de réflexion\, de prière et d’adoration.\n- Le
  prix du séjour correspond aux tarifs standard du camping plus une contri
 bution de 25€ par adulte pour participer aux activités d’A Rocha Fran
 ce.\n- Les intervenants seront les propriétaires du camping\, Jonathan Lo
 w (britannique et docteur en écologie) et sa femme Margareth Low (passion
 née par la vie durable) ainsi que Marc et Helen Léon (fondateurs du grou
 pe local Côtes d’Armor).\n\nhttps://france.arocha.org/fr/event/du-5-au-
 11-juillet-sejour-nature-a-milin-kerhe/
ATTACH;FMTTYPE=image/jpeg:https://www.egliseverte.org/wp-content/uploads/2
 026/03/sejour-nature-milin-kerhe-1.jpg
LOCATION:Lieu Camping de Milin-Kerhé\, Rue du Moulin\, Pabu\, 22\, 22200\,
  France
GEO:48.592065;-3.143546
X-APPLE-STRUCTURED-LOCATION;VALUE=URI;X-ADDRESS=Rue du Moulin\, Pabu\, 22\,
  22200\, France;X-APPLE-RADIUS=100;X-TITLE=Lieu Camping de Milin-Kerhé:ge
 o:48.592065,-3.143546
END:VEVENT
BEGIN:VTIMEZONE
TZID:Europe/Paris
X-LIC-LOCATION:Europe/Paris
BEGIN:DAYLIGHT
DTSTART:20260329T030000
TZOFFSETFROM:+0100
TZOFFSETTO:+0200
TZNAME:CEST
END:DAYLIGHT
END:VTIMEZONE
END:VCALENDAR