BEGIN:VCALENDAR
VERSION:2.0
PRODID:-//wp-events-plugin.com//7.2.3.1//EN
TZID:Europe/Paris
X-WR-TIMEZONE:Europe/Paris
BEGIN:VEVENT
UID:657@egliseverte.org
DTSTART;TZID=Europe/Paris:20260726T000000
DTEND;TZID=Europe/Paris:20260801T000000
DTSTAMP:20260302T171613Z
URL:https://www.egliseverte.org/agenda/sejour-terre-foi-se-nourrir-se-rejo
 uir/
SUMMARY:Séjour Terre &amp\; Foi : se nourrir\, se réjouir
DESCRIPTION:Une alimentation joyeuse\, saine\, et respectueuse de la créat
 ion\, c’est possible ? Venez explorer cette question avec nous et constr
 uire des alternatives pour un repas réconcilié avec Dieu et avec Sa cré
 ation.\n\nSe nourrir est un acte quotidien qui a une portée bien plus gra
 nde que la simple consommation de nourriture. Opportunité de rendre grâc
 e à notre créateur\, lieu d’hospitalité et de partage\, connexion à 
 la création : le repas est empreint de notre relation à Dieu\, d’éthi
 que et de joie.\n\nPourtant\, à une époque où tout vit en accéléré\,
  le temps du repas peut être lissé dans un activisme sens frein\, ou au 
 contraire faire l’objet d’excès néfastes à la santé humaine et à 
 notre environnement.\n\nÀ tous points de vue\, l’alimentation est bel e
 t bien l’un des enjeux majeurs de notre siècle.\n\nLors de cette semain
 e Terre &amp\; Foi\, nous explorerons les aspects bibliques de notre relat
 ion à l’aliment\, tout en faisant un état des lieux des impacts enviro
 nnementaux de l’alimentation et des solutions et alternatives possibles 
 pour un repas réconcilié avec la création.\n\nAu programme :\nApports t
 héologiques\, éthiques\, pratiques sur l’alimentation\, son impact sur
  la santé\, nos relations\, notre environnement\nAteliers optionnels pour
  jardiner au potager et pour cuisiner de manière créative et variée\, a
 vec des produits frais et de saison\nActivités nature : marches ou randon
 nées\, balades biodiversité\, soirée monde nocturne\nSoirées convivial
 es : danse\, louange et prière\, jeux…\n\nhttps://www.courmettes.com/se
 maine-terre-et-foi-2026/
ATTACH;FMTTYPE=image/jpeg:https://www.egliseverte.org/wp-content/uploads/2
 026/03/terre-et-foi-2026-1.jpg
LOCATION:Domaine des Courmettes (06)\, 4500 route des Courmettes\, Tourrett
 es-sur-Loup\, Alpes Maritimes\, 06140 \, Provence-Alpes-Côte d'Azur\, Fra
 nce
GEO:43.717249;7.020235
X-APPLE-STRUCTURED-LOCATION;VALUE=URI;X-ADDRESS=4500 route des Courmettes\,
  Tourrettes-sur-Loup\, Alpes Maritimes\, 06140 \, Provence-Alpes-Côte d'A
 zur\, France;X-APPLE-RADIUS=100;X-TITLE=Domaine des Courmettes (06):geo:43
 .717249,7.020235
END:VEVENT
BEGIN:VTIMEZONE
TZID:Europe/Paris
X-LIC-LOCATION:Europe/Paris
BEGIN:DAYLIGHT
DTSTART:20260329T030000
TZOFFSETFROM:+0100
TZOFFSETTO:+0200
TZNAME:CEST
END:DAYLIGHT
END:VTIMEZONE
END:VCALENDAR