BEGIN:VCALENDAR
VERSION:2.0
PRODID:-//wp-events-plugin.com//7.2.3.1//EN
TZID:Europe/Paris
X-WR-TIMEZONE:Europe/Paris
BEGIN:VEVENT
UID:656@egliseverte.org
DTSTART;TZID=Europe/Paris:20260719T000000
DTEND;TZID=Europe/Paris:20260725T000000
DTSTAMP:20260302T172121Z
URL:https://www.egliseverte.org/agenda/sejour-vivre-en-ecolieu-on-se-lance
 /
SUMMARY:Séjour Vivre en écolieu : on se lance ?
DESCRIPTION:Vivre en écolieu : pourquoi ? Pour qui ? Comment ? Un séjour 
 qui permettra d’explorer ensemble ces questions\, de faire le tour des e
 njeux liés à ce choix de vie\, et de donner des pistes et des outils con
 crets à ceux qui réfléchissent à se lancer…\n\nDans un monde compliq
 ué\, chaotique\, changeant\, beaucoup d’entre-nous réfléchissent à d
 es modes de vie différents\, dans lesquels le partage\, le respect de la 
 nature et de chacun soient au centre. Parmi ces modes de vie différents\,
  les écolieux émergent comme des solutions possibles\, et de plus en plu
 s recherchées.\n\nAu cours de cette semaine\, nous réfléchirons au pour
 quoi et au comment de ces lieux\, avec un accent particulier sur les écol
 ieux chrétiens.\n\nLes matinées nous permettront d’interroger les diff
 érents aspects de la création et de la vie en écolieu : aspects matéri
 els\, pratiques\, juridiques\, mais aussi émotionnels et spirituels.\n\nP
 rogramme prévisionnel :\nLundi : pourquoi l’émergence d’un écolieu 
 est une nécessité (échanges de raisons pragmatiques\, anthropologiques\
 , spirituelles et spécifiquement chrétiennes)\nMardi : l’émergence d
 ’une culture de transformation des structures de nos vies ? Ecolieux et 
 autres structures : tiers lieux\, paroisse\, etc. \; inventaires\, recueil
 s et partage\nMercredi : monter un écolieu : tour d’horizon des différ
 entes étapes du processus\, et ressources associées\nJeudi : aspects jur
 idiques et légaux\, questions des participants\nVendredi : recentrement 
 « Vivre l’espérance chrétienne en écolieu »\nPlusieurs intervenants
  permettront de guider la réflexion\, et d’apporter contenus pratiques 
 et partages d’expériences. Parmi ces intervenants\, Olivier Tempereau\,
  personne ressource de premier plan\, car fort d’une réflexion approfon
 die et documentée sur le sujet\, et en chemin quant à la création d’u
 n écolieu chrétien dans la région nantaise.\n\nLes après-midis seront 
 consacrés à des activités plus pratiques\, des balades natures\, des at
 eliers\, et notamment la découverte du jardin pédagogique des Courmettes
  conduit en permaculture.\n\nSoirées variées et conviviales.\n\nhttps://
 www.courmettes.com/vivre-en-eco-lieu-on-se-lance/
ATTACH;FMTTYPE=image/jpeg:https://www.egliseverte.org/wp-content/uploads/2
 026/03/sejour-ecolieux-1.jpg
LOCATION:Domaine des Courmettes (06)\, 4500 route des Courmettes\, Tourrett
 es-sur-Loup\, Alpes Maritimes\, 06140 \, Provence-Alpes-Côte d'Azur\, Fra
 nce
GEO:43.717249;7.020235
X-APPLE-STRUCTURED-LOCATION;VALUE=URI;X-ADDRESS=4500 route des Courmettes\,
  Tourrettes-sur-Loup\, Alpes Maritimes\, 06140 \, Provence-Alpes-Côte d'A
 zur\, France;X-APPLE-RADIUS=100;X-TITLE=Domaine des Courmettes (06):geo:43
 .717249,7.020235
END:VEVENT
BEGIN:VTIMEZONE
TZID:Europe/Paris
X-LIC-LOCATION:Europe/Paris
BEGIN:DAYLIGHT
DTSTART:20260329T030000
TZOFFSETFROM:+0100
TZOFFSETTO:+0200
TZNAME:CEST
END:DAYLIGHT
END:VTIMEZONE
END:VCALENDAR