BEGIN:VCALENDAR
VERSION:2.0
PRODID:-//wp-events-plugin.com//7.2.3.1//EN
TZID:Europe/Paris
X-WR-TIMEZONE:Europe/Paris
BEGIN:VEVENT
UID:294@egliseverte.org
DTSTART;TZID=Europe/Paris:20240426T190000
DTEND;TZID=Europe/Paris:20240428T140000
DTSTAMP:20240206T111907Z
URL:https://www.egliseverte.org/agenda/session-decospiritualite-avec-miche
 l-maxime-egger-61/
SUMMARY:Session d'écospiritualité avec Michel Maxime Egger (61)
DESCRIPTION:Session d'écospiritualité avec Michel Maxime Egger\, écothé
 ologien orthodoxe.\nTitre de la session : un chemin de conversion : de l'
 éco-anxiété à l'espérance.\nContenu :\nEntre des pratiques pour se re
 lier en profondeur à soi\, aux autres\, à la Création et à Dieu\, des 
 apports de contenu et des partages\, un parcours pour travailler sur nos 
 émotions\, changer d'imaginaire et nous engager pour une transition vers 
 un monde plus juste et durable.\n\nS'inscrire : tout est décrit dans ce d
 ocument Invitation session Egger VF\n\nVous ne connaissez pas encore ce m
 éditant-militant orthodoxe ? Redécouvrez son discours à la journée de 
 lancement d’Église verte en septembre 2017 :\n\n[embed]https://www.yout
 ube.com/watch?v=Wt4kB_cDApw[/embed]
ATTACH;FMTTYPE=image/jpeg:https://www.egliseverte.org/wp-content/uploads/2
 017/11/bg-featured3.jpg
LOCATION:Maison Familiale Rurale\, 6 route de Flers\, Cerisy Belle Etoile\,
  France\, 61100\, Normandie\, France
X-APPLE-STRUCTURED-LOCATION;VALUE=URI;X-ADDRESS=6 route de Flers\, Cerisy B
 elle Etoile\, France\, 61100\, Normandie\, France;X-APPLE-RADIUS=100;X-TIT
 LE=Maison Familiale Rurale:geo:0,0
END:VEVENT
BEGIN:VTIMEZONE
TZID:Europe/Paris
X-LIC-LOCATION:Europe/Paris
BEGIN:DAYLIGHT
DTSTART:20240331T030000
TZOFFSETFROM:+0100
TZOFFSETTO:+0200
TZNAME:CEST
END:DAYLIGHT
END:VTIMEZONE
END:VCALENDAR