BEGIN:VCALENDAR
VERSION:2.0
PRODID:-//wp-events-plugin.com//7.2.3.1//EN
TZID:Europe/Paris
X-WR-TIMEZONE:Europe/Paris
BEGIN:VEVENT
UID:287@egliseverte.org
DTSTART;TZID=Europe/Paris:20231125T090000
DTEND;TZID=Europe/Paris:20231126T170000
DTSTAMP:20231120T161812Z
URL:https://www.egliseverte.org/agenda/session-ecoute-la-terre-ecoute-ton-
 frere-01/
SUMMARY:Session "écoute la terre\, écoute ton frère" (01)
DESCRIPTION:https://abbayesaintrambert.fr/category/actualites/
END:VEVENT
BEGIN:VTIMEZONE
TZID:Europe/Paris
X-LIC-LOCATION:Europe/Paris
BEGIN:STANDARD
DTSTART:20231029T020000
TZOFFSETFROM:+0200
TZOFFSETTO:+0100
TZNAME:CET
END:STANDARD
END:VTIMEZONE
END:VCALENDAR