BEGIN:VCALENDAR
VERSION:2.0
PRODID:-//wp-events-plugin.com//7.2.3.1//EN
TZID:Europe/Paris
X-WR-TIMEZONE:Europe/Paris
BEGIN:VEVENT
UID:622@egliseverte.org
DTSTART;TZID=Europe/Paris:20260108T140000
DTEND;TZID=Europe/Paris:20260110T130000
DTSTAMP:20251203T183018Z
URL:https://www.egliseverte.org/agenda/session-enjeux-socio-ecologiques-co
 nstats-causes-horizons/
SUMMARY:Session : Prendre la mesure des enjeux socio-écologiques. Constats
 \, causes\, horizons.
DESCRIPTION:Cette session\, du jeudi 8 janvier 2026 à 14h au samedi 10 jan
 vier à 13h\, vise à présenter un état des lieux de la situation plané
 taire liant les enjeux sociaux\, économiques et environnementaux et à en
  comprendre les causes. Elle interrogera aussi les grands mythes et récit
 s de différentes sociétés humaines et leur potentiel pour renouer notre
  lien à la nature et envisager un nouvel horizon.\nCette session fait par
 tie du parcours du Diplôme inter-universitaire écologie intégrale propo
 sé conjointement par les Facultés Loyola Paris et la Catho de Lille. Ell
 e est accessible à tous\, étudiants du DIU ou auditeurs libres souhaitan
 t suivre uniquement cette session.\n\nhttps://www.loyolaparis.fr/formation
 /diplome-inter-universitaire-ecologie-integrale/
ATTACH;FMTTYPE=image/jpeg:https://www.egliseverte.org/wp-content/uploads/2
 025/12/iStock-1695311422-version-modif.jpg
LOCATION:Université catholique de Lille\, 60 boulevard Vauban\, Lille\, 59
 000\, France
X-APPLE-STRUCTURED-LOCATION;VALUE=URI;X-ADDRESS=60 boulevard Vauban\, Lille
 \, 59000\, France;X-APPLE-RADIUS=100;X-TITLE=Université catholique de Lil
 le:geo:0,0
END:VEVENT
BEGIN:VTIMEZONE
TZID:Europe/Paris
X-LIC-LOCATION:Europe/Paris
BEGIN:STANDARD
DTSTART:20251026T020000
TZOFFSETFROM:+0200
TZOFFSETTO:+0100
TZNAME:CET
END:STANDARD
END:VTIMEZONE
END:VCALENDAR