BEGIN:VCALENDAR
VERSION:2.0
PRODID:-//wp-events-plugin.com//7.2.3.1//EN
TZID:Europe/Paris
X-WR-TIMEZONE:Europe/Paris
BEGIN:VEVENT
UID:624@egliseverte.org
DTSTART;TZID=Europe/Paris;VALUE=DATE:20261008
DTEND;TZID=Europe/Paris;VALUE=DATE:20261011
DTSTAMP:20251203T183150Z
URL:https://www.egliseverte.org/agenda/session-esperance-actes-dimensions-
 institutionnelles-politiques-economiques-ecologie-integrale/
SUMMARY:Session : L'espérance en actes. Dimensions institutionnelles\, pol
 itiques et économiques de l'écologie intégrale.
DESCRIPTION:Cette session permettra d’explorer des chemins possibles pour
  une transformation écologique juste de nos sociétés\, en particulier 
 à travers le monde du travail et de l’entreprise et les expérimentatio
 ns du Campus de la Transition. Dans une approche œcuménique nous réflé
 chirons à la manière dont les Églises chrétiennes peuvent\, ensemble\,
  accompagner ces processus. Quels horizons d’espérance pouvons-nous ouv
 rir avec réalisme et engagement ?
ATTACH;FMTTYPE=image/jpeg:https://www.egliseverte.org/wp-content/uploads/2
 025/12/iStock-1695311422-version-modif.jpg
LOCATION:Facultés Loyola Paris\, 35 bis rue de Sèvres\, Paris\, 75006\, F
 rance
X-APPLE-STRUCTURED-LOCATION;VALUE=URI;X-ADDRESS=35 bis rue de Sèvres\, Par
 is\, 75006\, France;X-APPLE-RADIUS=100;X-TITLE=Facultés Loyola Paris:geo:
 0,0
END:VEVENT
BEGIN:VTIMEZONE
TZID:Europe/Paris
X-LIC-LOCATION:Europe/Paris
BEGIN:DAYLIGHT
DTSTART:20260329T030000
TZOFFSETFROM:+0100
TZOFFSETTO:+0200
TZNAME:CEST
END:DAYLIGHT
END:VTIMEZONE
END:VCALENDAR