BEGIN:VCALENDAR
VERSION:2.0
PRODID:-//wp-events-plugin.com//7.2.3.1//EN
TZID:Europe/Paris
X-WR-TIMEZONE:Europe/Paris
BEGIN:VEVENT
UID:623@egliseverte.org
DTSTART;TZID=Europe/Paris;VALUE=DATE:20260326
DTEND;TZID=Europe/Paris;VALUE=DATE:20260329
DTSTAMP:20251203T183106Z
URL:https://www.egliseverte.org/agenda/session-ethique-globale-pour-ecolog
 ie-integrale/
SUMMARY:Session : une éthique globale pour une écologie intégrale
DESCRIPTION:La crise écologique appelle une approche systémique face à d
 es enjeux multiples. Comment entendre ensemble le cri de la terre et le cr
 i des pauvres\, dans une approche renouvelée de la justice\, et penser le
 s résonances entre questions anthropologiques et écologiques ? Comment s
 e situer dans les grands courants de la pensée éthique en écologie ? A 
 partir d’expériences d’acteurs engagés et de réflexions interdiscip
 linaires\, cette session cherchera à élaborer une éthique globale.\nEll
 e est proposée dans le cadre du Diplôme inter-universitaire Écologie in
 tégrale\, porté conjointement par les Facultés Loyola Paris et la Catho
  de Lille\, mais peut être suivie indépendamment du DIU.\n\nhttps://www.
 loyolaparis.fr/formation/diplome-inter-universitaire-ecologie-integrale/
ATTACH;FMTTYPE=image/jpeg:https://www.egliseverte.org/wp-content/uploads/2
 025/12/iStock-1695311422-version-modif.jpg
LOCATION:Facultés Loyola Paris\, 35 bis rue de Sèvres\, Paris\, 75006\, F
 rance
X-APPLE-STRUCTURED-LOCATION;VALUE=URI;X-ADDRESS=35 bis rue de Sèvres\, Par
 is\, 75006\, France;X-APPLE-RADIUS=100;X-TITLE=Facultés Loyola Paris:geo:
 0,0
END:VEVENT
BEGIN:VTIMEZONE
TZID:Europe/Paris
X-LIC-LOCATION:Europe/Paris
BEGIN:STANDARD
DTSTART:20251026T020000
TZOFFSETFROM:+0200
TZOFFSETTO:+0100
TZNAME:CET
END:STANDARD
END:VTIMEZONE
END:VCALENDAR