BEGIN:VCALENDAR
VERSION:2.0
PRODID:-//wp-events-plugin.com//7.2.3.1//EN
TZID:Europe/Paris
X-WR-TIMEZONE:Europe/Paris
BEGIN:VEVENT
UID:492@egliseverte.org
DTSTART;TZID=Europe/Paris;VALUE=DATE:20250707
DTEND;TZID=Europe/Paris;VALUE=DATE:20250710
DTSTAMP:20250602T144620Z
URL:https://www.egliseverte.org/agenda/session-nature-et-vie-spirituelle-a
 ccueillir-le-vivant-et-nous-laisser-guider-par-lui/
SUMMARY:Session nature et vie spirituelle - Accueillir le vivant et nous la
 isser guider par lui
DESCRIPTION:Se mettre en retrait pour 3 jours afin d’accueillir le vivant
  et nous laisser guider par lui\, pas après pas. Au sein du parc et avec 
 lui\, une aventure de co-création et d’expérimentation où se risquer 
 avec nous.\n\nUne session en 4 temps :\n• Tout est don.\n• Entendre la
  souffrance du vivant.\n• Et si je me trompais…\n• Ensemble en route
  vers autre chose ?\nCroyant ou non\, ces 3 jours proposent un chemin int
 érieur avec la nature\, pour transformer sa vie.\n\nUne collaboration d
 ’une équipe diversifiée :\nMarie Jamet et Marie Lacoste : deux sœurs 
 du Cénacle amoureuses de la nature\nThierry : des "Pousses de Versailles"
 (Colibri) joyeux de relier les citoyens\n\nAu Cénacle de Versailles : à 
 10 minutes à pied de la gare de Versailles-Chantiers (liaison directe ave
 c la gare de Paris-Montparnasse OU Paris la Défense)\n\nInscription : htt
 ps://www.ndcenacle.org/activite/session-nature-et-vie-spirituelle/?key=0
ATTACH;FMTTYPE=image/jpeg:https://www.egliseverte.org/wp-content/uploads/2
 025/05/Parc-du-Cenacle-de-Versailles-Pont-scaled.jpeg
LOCATION:Centre spirituel du Cénacle de Versailles (78)\, 68 Avenue de Par
 is\, Versailles\, 78000\, France
GEO:48.798606;2.141651
X-APPLE-STRUCTURED-LOCATION;VALUE=URI;X-ADDRESS=68 Avenue de Paris\, Versai
 lles\, 78000\, France;X-APPLE-RADIUS=100;X-TITLE=Centre spirituel du Céna
 cle de Versailles (78):geo:48.798606,2.141651
END:VEVENT
BEGIN:VTIMEZONE
TZID:Europe/Paris
X-LIC-LOCATION:Europe/Paris
BEGIN:DAYLIGHT
DTSTART:20250330T030000
TZOFFSETFROM:+0100
TZOFFSETTO:+0200
TZNAME:CEST
END:DAYLIGHT
END:VTIMEZONE
END:VCALENDAR