BEGIN:VCALENDAR
VERSION:2.0
PRODID:-//wp-events-plugin.com//7.2.3.1//EN
TZID:Europe/Paris
X-WR-TIMEZONE:Europe/Paris
BEGIN:VEVENT
UID:333@egliseverte.org
DTSTART;TZID=Europe/Paris;VALUE=DATE:20240708
DTEND;TZID=Europe/Paris;VALUE=DATE:20240713
DTSTAMP:20240521T084450Z
URL:https://www.egliseverte.org/agenda/session-nature-et-vie-spirituelle-l
 a-nature-et-nous-une-histoire-de-relation-78/
SUMMARY:Session nature et vie spirituelle - La nature et nous : une histoir
 e de relation (78)
DESCRIPTION:Vivre ces 4 jours à un autre rythme\nobserver longuement\,\nla
 isser maturer\,\nagir au moment juste\ndans l’esprit de la permaculture.
 \n\nUn temps :\npour entrer en dialogue\, en rencontres\navec la nature\, 
 les autres\, moi-même\navec des paroles fondatrices et la Parole de Dieu.
 \npour entrer dans la gratitude\,\nprendre conscience de nos responsabilit
 és\nEspérer\nCoopérer.\n\nEnsemble et chacun là où il en est.\n\nQuel
 le que soit votre porte d’entrée habituelle ou inhabituelle (écologie\
 , Parole de Dieu\, permaculture)\, nous construirons ensemble cette sessio
 n avec la richesse de notre diversité et dans le confort de chacun.\n\nUn
 e collaboration d’une équipe diversifiée : Marie et Marie\, deux sœur
 s du Cénacle amoureuses de la nature et Thierry\, de l'association des Po
 usses de Versailles (Colibri) joyeux de relier les citoyens.\n\nhttps://ww
 w.ndcenacle.org/activite/nature-et-vie-spirituelle/?key=0
ATTACH;FMTTYPE=image/jpeg:https://www.egliseverte.org/wp-content/uploads/2
 024/05/Visuel-principal-Mains-sur-un-arbre.jpg
LOCATION:Le Cénacle de Versailles\, 68 avenue de Paris\, Versailles\, Yvel
 ines\, 78000\, Ile de France\, France
X-APPLE-STRUCTURED-LOCATION;VALUE=URI;X-ADDRESS=68 avenue de Paris\, Versai
 lles\, Yvelines\, 78000\, Ile de France\, France;X-APPLE-RADIUS=100;X-TITL
 E=Le Cénacle de Versailles:geo:0,0
END:VEVENT
BEGIN:VTIMEZONE
TZID:Europe/Paris
X-LIC-LOCATION:Europe/Paris
BEGIN:DAYLIGHT
DTSTART:20240331T030000
TZOFFSETFROM:+0100
TZOFFSETTO:+0200
TZNAME:CEST
END:DAYLIGHT
END:VTIMEZONE
END:VCALENDAR