BEGIN:VCALENDAR
VERSION:2.0
PRODID:-//wp-events-plugin.com//7.2.3.1//EN
TZID:Europe/Paris
X-WR-TIMEZONE:Europe/Paris
BEGIN:VEVENT
UID:351@egliseverte.org
DTSTART;TZID=Europe/Paris;VALUE=DATE:20250327
DTEND;TZID=Europe/Paris;VALUE=DATE:20250330
DTSTAMP:20240605T144338Z
URL:https://www.egliseverte.org/agenda/session-une-ethique-globale-pour-un
 e-ecologie-integrale-75/
SUMMARY:Session "Une éthique globale pour une écologie intégrale" (75)
DESCRIPTION:Cette session se déroulera du jeudi 27 mars 2025 à 10h au sam
 edi 29 mars à 16h30.\n\nÀ partir d’expériences d’acteurs engagés e
 t de réflexions interdisciplinaires\, elle aura pour objectif d'élaborer
  une éthique globale pour faire face à la crise socio-écologique et à 
 ses enjeux multiples qui appelle une approche systémique. Comment entendr
 e ensemble le cri de la terre et le cri des pauvres\, dans une approche re
 nouvelée de la justice\, et penser les résonnances entre questions anthr
 opologiques et écologiques ?\n\nCette session est intégrée au Diplôme 
 inter-universitaire d’écologie intégrale proposé par les Facultés Lo
 yola Paris et l’Université catholique de Lille\, mais elle peut-être s
 uivie indépendamment du reste du DIU.\n\nhttps://www.loyolaparis.fr/agend
 a/une-ethique-globale-pour-une-ecologie-integrale/
ATTACH;FMTTYPE=image/jpeg:https://www.egliseverte.org/wp-content/uploads/2
 024/06/iStock-1695311422-version-modif.jpg
LOCATION:Facultés Loyola Paris\, 35 bis rue de Sèvres\, Paris\, 75006\, F
 rance
X-APPLE-STRUCTURED-LOCATION;VALUE=URI;X-ADDRESS=35 bis rue de Sèvres\, Par
 is\, 75006\, France;X-APPLE-RADIUS=100;X-TITLE=Facultés Loyola Paris:geo:
 0,0
END:VEVENT
BEGIN:VTIMEZONE
TZID:Europe/Paris
X-LIC-LOCATION:Europe/Paris
BEGIN:STANDARD
DTSTART:20241027T020000
TZOFFSETFROM:+0200
TZOFFSETTO:+0100
TZNAME:CET
END:STANDARD
END:VTIMEZONE
END:VCALENDAR