BEGIN:VCALENDAR
VERSION:2.0
PRODID:-//wp-events-plugin.com//7.2.3.1//EN
TZID:Europe/Paris
X-WR-TIMEZONE:Europe/Paris
BEGIN:VEVENT
UID:315@egliseverte.org
DTSTART;TZID=Europe/Paris;VALUE=DATE:20240509
DTEND;TZID=Europe/Paris;VALUE=DATE:20240513
DTSTAMP:20240325T154625Z
URL:https://www.egliseverte.org/agenda/session-vivre-laudato-si-en-famille
 -38-2/
SUMMARY:Session Vivre Laudato Si' en famille (38)
DESCRIPTION:L’Ascension en famille sur le chemin de l’écologie intégr
 ale\nTemps de réflexion\, de prière\, d’échange\, de jeu\, d’expér
 ience dans un cadre naturel exceptionnel… et de fête ! Adaptés aux enf
 ants de tous âges.\nLe matin : topo\, témoignage\, temps personnel et en
  couple pour les parents\, activités par tranche d’âge pour les enfant
 s.\nL’après-midi : libre\, avec des propositions pour expérimenter le 
 thème du jour\, en famille ou entre familles.\nEn soirée : temps de rele
 cture et une veillée viennent clôturer la journée.\n\nhttps://www.saint
 hugues.fr/vivre-laudato-si-en-famille-09-05-2024/
ATTACH;FMTTYPE=image/jpeg:https://www.egliseverte.org/wp-content/uploads/2
 024/03/Flyer-2024-v1.jpg
LOCATION:Centre spirituel Saint-Hugues de Biviers\, 313 Chem. de Billerey\,
 \, Biviers\, Isère\, 38330\, France
X-APPLE-STRUCTURED-LOCATION;VALUE=URI;X-ADDRESS=313 Chem. de Billerey\,\, B
 iviers\, Isère\, 38330\, France;X-APPLE-RADIUS=100;X-TITLE=Centre spiritu
 el Saint-Hugues de Biviers:geo:0,0
END:VEVENT
BEGIN:VTIMEZONE
TZID:Europe/Paris
X-LIC-LOCATION:Europe/Paris
BEGIN:DAYLIGHT
DTSTART:20240331T030000
TZOFFSETFROM:+0100
TZOFFSETTO:+0200
TZNAME:CEST
END:DAYLIGHT
END:VTIMEZONE
END:VCALENDAR