BEGIN:VCALENDAR
VERSION:2.0
PRODID:-//wp-events-plugin.com//7.2.3.1//EN
TZID:Europe/Paris
X-WR-TIMEZONE:Europe/Paris
BEGIN:VEVENT
UID:313@egliseverte.org
DTSTART;TZID=Europe/Paris:20240405T203000
DTEND;TZID=Europe/Paris:20240405T221500
DTSTAMP:20240313T180627Z
URL:https://www.egliseverte.org/agenda/soiree-conference-echange-aimer-cet
 te-creation-que-dieu-aime-44/
SUMMARY:Soirée conférence-échange « Aimer cette Création que Dieu aime
  » (44)
DESCRIPTION:« Aimer cette Création que Dieu aime »\nComment écologie et
  foi sont liées ?\n\nL'écologie\, ça n'a pas de rapport avec notre foi.
 ..\nL'écologie\, c'est culpabilisant...\nLa "conversion écologique"\, ç
 a ne veut rien dire...\nCes affirmations\, nous les entendons dans notre 
 Église \; elles nous interrogent comme chrétiens et chrétiennes\, que n
 ous les partagions ou non.\nPour y réfléchir\, nous vous invitons\, dans
  le cadre de la démarche Église verte portée par nos paroisses\, à une
  soirée d'échange autour de Loïc LAINÉ\, diacre chargé des questions 
 écologiques dans notre diocèse\, le vendredi 5 avril à 20h30 (voir dét
 ails sur la pièce jointe)\nDans l'attente de vous retrouver\,\nFraternell
 ement et sororalement\nLes groupes Église Verte des paroisses Saint-Séba
 stien Bourg et Saint-Jacques/Saint-Jean/Sainte-Famille
ATTACH;FMTTYPE=image/jpeg:https://www.egliseverte.org/wp-content/uploads/2
 024/03/soiree-conference-echange.png
LOCATION:Eglise Saint Sébastien (bourg)\, 1 square de Verdun\, Saint-Séba
 stien-sur-Loire\, 44/Loire-Atlantique\, 44230\, Pays de Loire\, France
X-APPLE-STRUCTURED-LOCATION;VALUE=URI;X-ADDRESS=1 square de Verdun\, Saint-
 Sébastien-sur-Loire\, 44/Loire-Atlantique\, 44230\, Pays de Loire\, Franc
 e;X-APPLE-RADIUS=100;X-TITLE=Eglise Saint Sébastien (bourg):geo:0,0
END:VEVENT
BEGIN:VTIMEZONE
TZID:Europe/Paris
X-LIC-LOCATION:Europe/Paris
BEGIN:DAYLIGHT
DTSTART:20240331T030000
TZOFFSETFROM:+0100
TZOFFSETTO:+0200
TZNAME:CEST
END:DAYLIGHT
END:VTIMEZONE
END:VCALENDAR