BEGIN:VCALENDAR
VERSION:2.0
PRODID:-//wp-events-plugin.com//7.2.3.1//EN
TZID:Europe/Paris
X-WR-TIMEZONE:Europe/Paris
BEGIN:VEVENT
UID:584@egliseverte.org
DTSTART;TZID=Europe/Paris:20251016T203000
DTEND;TZID=Europe/Paris:20251016T220000
DTSTAMP:20250925T160437Z
URL:https://www.egliseverte.org/agenda/soiree-debat-pour-les-dix-ans-de-la
 udato-si/
SUMMARY:Soirée-débat pour les dix ans de Laudato si'
DESCRIPTION:Jeudi 16 octobre 2025\nde 20h30 à 22h\nSalle paroissiale de l'
 église Notre-Dame de l'Assomption\n3/5 Av. Matlock\, Eaubonne\n\nLaudato 
 si'\, L'encyclique qui a interpellé l'humanité\n\nSoirée-débat pour le
 s dix ans de Laudato si'\nÀ partir d’un court article de 2 pages distri
 bué à tous…\n\nDans le cadre des soirées "Foi et société : Parlons-
 en" organisées par le Père L-M Chauvet\, D. Macquet\, C. Marmèche\, P. 
 Sinizergues et C. Valentin.
ATTACH;FMTTYPE=image/jpeg:https://www.egliseverte.org/wp-content/uploads/2
 025/09/affiche-soiree-Laudato-si-16-dec-2025-Eaubonne.jpg
LOCATION:Salle paroissiale de l'Eglise Notre Dame\, 3/5 Av. Matlock\, Eaubo
 nne\, Val d'Oise\, 95600\, France
GEO:48.994581;2.274394
X-APPLE-STRUCTURED-LOCATION;VALUE=URI;X-ADDRESS=3/5 Av. Matlock\, Eaubonne\
 , Val d'Oise\, 95600\, France;X-APPLE-RADIUS=100;X-TITLE=Salle paroissiale
  de l'Eglise Notre Dame:geo:48.994581,2.274394
END:VEVENT
BEGIN:VTIMEZONE
TZID:Europe/Paris
X-LIC-LOCATION:Europe/Paris
BEGIN:DAYLIGHT
DTSTART:20250330T030000
TZOFFSETFROM:+0100
TZOFFSETTO:+0200
TZNAME:CEST
END:DAYLIGHT
END:VTIMEZONE
END:VCALENDAR