BEGIN:VCALENDAR
VERSION:2.0
PRODID:-//wp-events-plugin.com//7.2.3.1//EN
TZID:Europe/Paris
X-WR-TIMEZONE:Europe/Paris
BEGIN:VEVENT
UID:255@egliseverte.org
DTSTART;TZID=Europe/Paris:20230210T184500
DTEND;TZID=Europe/Paris:20230210T220000
DTSTAMP:20231120T160749Z
URL:https://www.egliseverte.org/agenda/soiree-oecumenisme-et-ecologie-75/
SUMMARY:SOIREE Œcuménisme et écologie (75)
DESCRIPTION:La sauvegarde de la Création au cœur du dialogue œcuménique
 \, à l’Institut de théologie orthodoxe Saint-Serge (93\, rue de Crimé
 e\, 75019 Paris)\n\n18h45 Prière orthodoxe\n19h30 La sauvegarde de la Cr
 éation : quelles positions des diverses traditions ?\n\n 	Marc BOSS (Inst
 itut protestant de théologie\, Paris)\n 	Dominique COATANÉA (Centre Sèv
 res-Facultés jésuites de Paris)\n 	Michel STAVROU (Institut de théologi
 e orthodoxe Saint-Serge)\n\nTable ronde suivie d’échanges\n\n21h30 Temp
 s convivial\n\nhttps://centresevres.com/agenda/la-voix-des-eglises-a-lepre
 uve-de-la-crise-ecologique-ressources-interrogations-perspectives/
ATTACH;FMTTYPE=image/jpeg:https://www.egliseverte.org/wp-content/uploads/2
 023/01/La-sauvegarde-de-la-Creation-au-coeur-du-dialogue-oecumenique_journ
 ee-detudes_A5_10-11-fev_Prog-8pages_Affiche_page-0001.jpg
LOCATION:Institut Saint Serge\, 93\, Rue de Crimée\, PARIS  \, 75009\, Fra
 nce
GEO:48.88357;2.384043
X-APPLE-STRUCTURED-LOCATION;VALUE=URI;X-ADDRESS=93\, Rue de Crimée\, PARIS
   \, 75009\, France;X-APPLE-RADIUS=100;X-TITLE=Institut Saint Serge:geo:48
 .88357,2.384043
END:VEVENT
BEGIN:VTIMEZONE
TZID:Europe/Paris
X-LIC-LOCATION:Europe/Paris
BEGIN:STANDARD
DTSTART:20221030T020000
TZOFFSETFROM:+0200
TZOFFSETTO:+0100
TZNAME:CET
END:STANDARD
END:VTIMEZONE
END:VCALENDAR