BEGIN:VCALENDAR
VERSION:2.0
PRODID:-//wp-events-plugin.com//7.2.3.1//EN
TZID:Europe/Paris
X-WR-TIMEZONE:Europe/Paris
BEGIN:VEVENT
UID:543@egliseverte.org
DTSTART;TZID=Europe/Paris:20250919T200000
DTEND;TZID=Europe/Paris:20250919T213000
DTSTAMP:20250904T101207Z
URL:https://www.egliseverte.org/agenda/soiree-pour-la-creation/
SUMMARY:Soirée pour la création
DESCRIPTION:
ATTACH;FMTTYPE=image/jpeg:https://www.egliseverte.org/wp-content/uploads/2
 025/06/Temps-pour-la-Creation1.jpg
LOCATION:Église de Franois (25)\, grande rue\, Franois\, Doubs\, 25770\, B
 OURGOGNE FRANCHE-COMTE\, France
GEO:47.234454;5.924307
X-APPLE-STRUCTURED-LOCATION;VALUE=URI;X-ADDRESS=grande rue\, Franois\, Doub
 s\, 25770\, BOURGOGNE FRANCHE-COMTE\, France;X-APPLE-RADIUS=100;X-TITLE=É
 glise de Franois (25):geo:47.234454,5.924307
END:VEVENT
BEGIN:VTIMEZONE
TZID:Europe/Paris
X-LIC-LOCATION:Europe/Paris
BEGIN:DAYLIGHT
DTSTART:20250330T030000
TZOFFSETFROM:+0100
TZOFFSETTO:+0200
TZNAME:CEST
END:DAYLIGHT
END:VTIMEZONE
END:VCALENDAR