BEGIN:VCALENDAR
VERSION:2.0
PRODID:-//wp-events-plugin.com//7.2.3.1//EN
TZID:Europe/Paris
X-WR-TIMEZONE:Europe/Paris
BEGIN:VEVENT
UID:571@egliseverte.org
DTSTART;TZID=Europe/Paris:20251017T200000
DTEND;TZID=Europe/Paris:20251017T213000
DTSTAMP:20251006T093314Z
URL:https://www.egliseverte.org/agenda/spectacle-au-commencement-le-vert-e
 tait-dans-la-pomme-2/
SUMMARY:Spectacle "Au commencement le Vert était dans la pomme"
DESCRIPTION:Pour les 10 ans de la publication de l'encyclique Laudato Si\, 
 venez rire et réfléchir grâce à cette pièce de théâtre interactive 
 inspirée de l'encyclique !\nRéservations ici :\nhttps://www.helloasso.co
 m/associations/ad-nantes/evenements/au-commencement-le-vert-etait-dans-la-
 pomme
ATTACH;FMTTYPE=image/jpeg:https://www.egliseverte.org/wp-content/uploads/2
 025/09/TractInternetNantes.gif
LOCATION:salle coligny\, 15 bis place Edouard Normand\, Nantes\, 44000\, Fr
 ance
GEO:47.218951;-1.563679
X-APPLE-STRUCTURED-LOCATION;VALUE=URI;X-ADDRESS=15 bis place Edouard Norman
 d\, Nantes\, 44000\, France;X-APPLE-RADIUS=100;X-TITLE=salle coligny:geo:4
 7.218951,-1.563679
END:VEVENT
BEGIN:VTIMEZONE
TZID:Europe/Paris
X-LIC-LOCATION:Europe/Paris
BEGIN:DAYLIGHT
DTSTART:20250330T030000
TZOFFSETFROM:+0100
TZOFFSETTO:+0200
TZNAME:CEST
END:DAYLIGHT
END:VTIMEZONE
END:VCALENDAR