BEGIN:VCALENDAR
VERSION:2.0
PRODID:-//wp-events-plugin.com//7.2.3.1//EN
TZID:Europe/Paris
X-WR-TIMEZONE:Europe/Paris
BEGIN:VEVENT
UID:572@egliseverte.org
DTSTART;TZID=Europe/Paris:20251018T180000
DTEND;TZID=Europe/Paris:20251018T193000
DTSTAMP:20250918T083330Z
URL:https://www.egliseverte.org/agenda/spectacle-au-commencement-le-vert-e
 tait-dans-la-pomme/
SUMMARY:Spectacle "Au commencement le Vert était dans la pomme"
DESCRIPTION:Pour les 10 ans de la publication de l'encyclique Laudato Si\, 
 venez rire et réfléchir grâce à cette pièce de théâtre interactive 
 inspirée de l'encyclique ! Venez en famille (à partir de 8 ans).\nRéser
 vations ici :\nhttps://www.helloasso.com/associations/ad-nantes/evenements
 /au-commencement-le-vert-etait-dans-la-pomme
ATTACH;FMTTYPE=image/jpeg:https://www.egliseverte.org/wp-content/uploads/2
 025/09/TractInternetNantes-1.gif
LOCATION:salle Coligny\, 15 bis place Edouard Normand\, Nantes\, France
GEO:47.218951;-1.563679
X-APPLE-STRUCTURED-LOCATION;VALUE=URI;X-ADDRESS=15 bis place Edouard Norman
 d\, Nantes\, France;X-APPLE-RADIUS=100;X-TITLE=salle Coligny:geo:47.218951
 ,-1.563679
END:VEVENT
BEGIN:VTIMEZONE
TZID:Europe/Paris
X-LIC-LOCATION:Europe/Paris
BEGIN:DAYLIGHT
DTSTART:20250330T030000
TZOFFSETFROM:+0100
TZOFFSETTO:+0200
TZNAME:CEST
END:DAYLIGHT
END:VTIMEZONE
END:VCALENDAR