BEGIN:VCALENDAR
VERSION:2.0
PRODID:-//wp-events-plugin.com//7.2.3.1//EN
TZID:Europe/Paris
X-WR-TIMEZONE:Europe/Paris
BEGIN:VEVENT
UID:429@egliseverte.org
DTSTART;TZID=Europe/Paris:20250111T203000
DTEND;TZID=Europe/Paris:20250111T223000
DTSTAMP:20241128T140938Z
URL:https://www.egliseverte.org/agenda/spectacle-createurs-de-demain-63/
SUMMARY:Spectacle Créateurs de demain (63)
DESCRIPTION:Une comédie musicale proposé par l'ensemble scolaire Saint Jo
 seph\, interprétée par la troupe Scèn'Epi\, engagée dans la démarche 
 Église verte Jeunes.\n\nEntrée libre et gratuite.\n\n« Créateurs de de
 main » est un spectacle original\, une invitation à vivre en Humanité\,
  avec la Nature et avec Dieu.\nPartez découvrir\, en musique\, la vie de 
 5 personnages qui cherchent à construire un monde plus beau et plus juste
 \, tout en grandissant dans la Foi. Cette création artistique mêle la be
 auté de divers modes d’expression actuels tout en puisant son inspirati
 on dans la Bible et dans l’Encyclique « Laudato Si’ ».
ATTACH;FMTTYPE=image/jpeg:https://www.egliseverte.org/wp-content/uploads/2
 024/11/2025-01-11_Affiche_CDD_Ambert_web-1.jpg
LOCATION:Eglise Saint Jean\, 2 rue du Paradis\, Ambert\, 63600\, France
X-APPLE-STRUCTURED-LOCATION;VALUE=URI;X-ADDRESS=2 rue du Paradis\, Ambert\,
  63600\, France;X-APPLE-RADIUS=100;X-TITLE=Eglise Saint Jean:geo:0,0
END:VEVENT
BEGIN:VTIMEZONE
TZID:Europe/Paris
X-LIC-LOCATION:Europe/Paris
BEGIN:STANDARD
DTSTART:20241027T020000
TZOFFSETFROM:+0200
TZOFFSETTO:+0100
TZNAME:CET
END:STANDARD
END:VTIMEZONE
END:VCALENDAR