BEGIN:VCALENDAR
VERSION:2.0
PRODID:-//wp-events-plugin.com//7.2.3.1//EN
TZID:Europe/Paris
X-WR-TIMEZONE:Europe/Paris
BEGIN:VEVENT
UID:483@egliseverte.org
DTSTART;TZID=Europe/Paris:20250628T210000
DTEND;TZID=Europe/Paris:20250628T223000
DTSTAMP:20250513T122953Z
URL:https://www.egliseverte.org/agenda/spectacle-createurs-de-demain-st-ne
 ctaire/
SUMMARY:Spectacle Créateurs de demain
DESCRIPTION:« Créateurs de demain » est un spectacle original\, une invi
 tation à vivre en Humanité\, avec la Nature et avec Dieu.\nPartez décou
 vrir\, en musique\, la vie de 5 personnages qui cherchent à construire un
  monde plus beau et plus juste\, tout en grandissant dans la Foi.\nCette c
 réation artistique mêle la beauté de divers modes d’expression actuel
 s tout en puisant son inspiration dans la Bible et dans Laudato Si'\, « C
 réateurs de demain » est un spectacle original\, une invitation à vivre
  en Humanité\, avec la Nature et avec Dieu.\nPartez découvrir\, en musiq
 ue\, la vie de 5 personnages qui cherchent à construire un monde plus bea
 u et plus juste\, tout en grandissant dans la Foi.\nCette création artist
 ique mêle la beauté de divers modes d’expression actuels tout en puisa
 nt son inspiration dans la Bible et dans l’Encyclique « Laudato Si’ 
 ».\nDevenons ensemble les « Créateurs de demain » !\n\nhttps://scenepi
 .com/les-dates-a-venir/spectacle-le-28-06-2025-a-saint-nectaire-63/
ATTACH;FMTTYPE=image/jpeg:https://www.egliseverte.org/wp-content/uploads/2
 025/05/2025-06-28_Affiche_CDD_St_Nectaire.jpg
LOCATION:Eglise Saint-Nectaire\, 1 rue du Cornadore\, Saint-Nectaire\, 6371
 0\, France
X-APPLE-STRUCTURED-LOCATION;VALUE=URI;X-ADDRESS=1 rue du Cornadore\, Saint-
 Nectaire\, 63710\, France;X-APPLE-RADIUS=100;X-TITLE=Eglise Saint-Nectaire
 :geo:0,0
END:VEVENT
BEGIN:VTIMEZONE
TZID:Europe/Paris
X-LIC-LOCATION:Europe/Paris
BEGIN:DAYLIGHT
DTSTART:20250330T030000
TZOFFSETFROM:+0100
TZOFFSETTO:+0200
TZNAME:CEST
END:DAYLIGHT
END:VTIMEZONE
END:VCALENDAR