BEGIN:VCALENDAR
VERSION:2.0
PRODID:-//wp-events-plugin.com//7.2.3.1//EN
TZID:Europe/Paris
X-WR-TIMEZONE:Europe/Paris
BEGIN:VEVENT
UID:471@egliseverte.org
DTSTART;TZID=Europe/Paris:20250510T160000
DTEND;TZID=Europe/Paris:20250510T160000
DTSTAMP:20250414T125007Z
URL:https://www.egliseverte.org/agenda/spectacle-createurs-de-demain/
SUMMARY:Spectacle Créateurs de demain (63)
DESCRIPTION:« Créateurs de demain » est un spectacle original\, une invi
 tation à vivre en Humanité\, avec la Nature et avec Dieu.\nPartez décou
 vrir\, en musique\, la vie de 5 personnages qui cherchent à construire un
  monde plus beau et plus juste\, tout en grandissant dans la Foi.\nCette c
 réation artistique mêle la beauté de divers modes d’expression actuel
 s tout en puisant son inspiration dans la Bible et dans l’« Créateurs 
 de demain » est un spectacle original\, une invitation à vivre en Humani
 té\, avec la Nature et avec Dieu.\nPartez découvrir\, en musique\, la vi
 e de 5 personnages qui cherchent à construire un monde plus beau et plus 
 juste\, tout en grandissant dans la Foi.\nCette création artistique mêle
  la beauté de divers modes d’expression actuels tout en puisant son ins
 piration dans la Bible et dans l’Encyclique « Laudato Si’ ».\nDeveno
 ns ensemble les « Créateurs de demain » !
ATTACH;FMTTYPE=image/jpeg:https://www.egliseverte.org/wp-content/uploads/2
 025/04/2025-05-10_Affiche_CDD_Le-Grand-Bourg-lr.jpg
LOCATION:Salle Espace Sports et Loisirs\, Centre ville\, Le Grand-Bourg\, F
 RANCE\, 23240\, France
X-APPLE-STRUCTURED-LOCATION;VALUE=URI;X-ADDRESS=Centre ville\, Le Grand-Bou
 rg\, FRANCE\, 23240\, France;X-APPLE-RADIUS=100;X-TITLE=Salle Espace Sport
 s et Loisirs:geo:0,0
END:VEVENT
BEGIN:VTIMEZONE
TZID:Europe/Paris
X-LIC-LOCATION:Europe/Paris
BEGIN:DAYLIGHT
DTSTART:20250330T030000
TZOFFSETFROM:+0100
TZOFFSETTO:+0200
TZNAME:CEST
END:DAYLIGHT
END:VTIMEZONE
END:VCALENDAR