BEGIN:VCALENDAR
VERSION:2.0
PRODID:-//wp-events-plugin.com//7.2.3.1//EN
TZID:Europe/Paris
X-WR-TIMEZONE:Europe/Paris
BEGIN:VEVENT
UID:493@egliseverte.org
DTSTART;TZID=Europe/Paris:20250611T190000
DTEND;TZID=Europe/Paris:20250611T213000
DTSTAMP:20250530T095234Z
URL:https://www.egliseverte.org/agenda/table-ronde-10-ans-apres-laudato-si
 -regards-croises-oecumeniques/
SUMMARY:Table ronde : 10 ans après Laudato si’\, regards croisés œcum
 éniques
DESCRIPTION:Une soirée pour relire les 10 dernières années depuis la pub
 lication de l’encyclique Laudato si’ en croisant les regards orthodoxe
 s\, protestants et catholiques. Laura Morosini (Mouvement Laudato Si')\, F
 rédéric Rognon (Faculté de théologie protestante de Strasbourg) et Jul
 ija Naet Vidovic (Faculté de théologie orthodoxe Saint Serge) montreront
  les ressources préexistantes dans sa confession pour penser la conversio
 n écologique\, comment Laudato si’ a permis directement ou indirectemen
 t des avancées et le chemin qui se poursuit.\n\nLa table ronde sera suivi
 e de questions. A 20h30\, un apéritif sera proposé. Il est possible de s
 uivre la table ronde en visioconférence : https://webaurion.loyolaparis.f
 r/faces/AccesDirectNonAuth.xhtml?ir=4051230&amp\;io=7553667&amp\;portail=t
 rue
ATTACH;FMTTYPE=image/jpeg:https://www.egliseverte.org/wp-content/uploads/2
 025/05/10-ans-apres-Laudato-si-regards-croises-oecumeniques-2_page-0001.jp
 g
LOCATION:Facultés Loyola Paris\, 35 bis rue de Sèvres\, Paris\, 75006\, F
 rance
X-APPLE-STRUCTURED-LOCATION;VALUE=URI;X-ADDRESS=35 bis rue de Sèvres\, Par
 is\, 75006\, France;X-APPLE-RADIUS=100;X-TITLE=Facultés Loyola Paris:geo:
 0,0
END:VEVENT
BEGIN:VTIMEZONE
TZID:Europe/Paris
X-LIC-LOCATION:Europe/Paris
BEGIN:DAYLIGHT
DTSTART:20250330T030000
TZOFFSETFROM:+0100
TZOFFSETTO:+0200
TZNAME:CEST
END:DAYLIGHT
END:VTIMEZONE
END:VCALENDAR