BEGIN:VCALENDAR
VERSION:2.0
PRODID:-//wp-events-plugin.com//7.2.3.1//EN
TZID:Europe/Paris
X-WR-TIMEZONE:Europe/Paris
BEGIN:VEVENT
UID:453@egliseverte.org
DTSTART;TZID=Europe/Paris:20250313T190000
DTEND;TZID=Europe/Paris:20250313T210000
DTSTAMP:20250220T150628Z
URL:https://www.egliseverte.org/agenda/table-ronde-livre-katharine-hayhoet
 e-et-apaise-dune-climatologue-75/
SUMMARY:Table ronde autour du livre "Défi et espérance pour le climat –
  Plaidoyer réaliste et apaisé d’une climatologue" (75)
DESCRIPTION:Jeudi 13 mars à 19h à la Maison du Protestantisme\, 47\, rue 
 de Clichy\, Paris 9e (métro Liège)\n\nUne table ronde sur le thème « C
 limat et foi : agir ensemble pour un avenir durable »\nAvec Katharine HAY
 HOE (en simultané depuis les États-Unis)\nJean-François MOUHOT\, direct
 eur d’A Rocha France\nJacqueline de BOURGOING\, présidente d’Église 
 verte\nJean-Philippe BARDE\, Économiste de l’environnement\, membre de 
 la Commission Écologie et Justice climatique de la Fédération Protestan
 te de France et du réseau Espérer pour le vivant.\nTable ronde animée p
 ar Dominique Badets (journaliste et cheffe de rubrique Environnement à la
  revue Pèlerin)\n\nEntrée libre\, Inscription obligatoire avant le 10 ma
 rs 2025.\n\nLa crise climatique est une réalité qui touche l’ensemble 
 de la planète. Pourtant\, au-delà des constats alarmants\, il est essent
 iel de montrer qu’il existe des solutions accessibles et des leviers d
 ’action concrets. C’est précisément l’objectif du livre Défi et e
 spérance pour le climat – Plaidoyer réaliste et apaisé d’une climat
 ologue\, signé par Katharine Hayhoe\, climatologue de renommée internati
 onale.\n\nPublié par BIBLI’O en collaboration avec A Rocha et le progra
 mme européen LIFE\, cet ouvrage s’adresse à tous ceux qui souhaitent m
 ieux comprendre les enjeux environnementaux et agir à leur échelle.\n\nK
 atharine Hayhoe est climatologue\, canadienne et chrétienne. Elle donne d
 es conférences dans le monde entier et ses ouvrages grand public exhorten
 t à des solutions réalistes et efficaces en faveur du climat. Conseillè
 re scientifique en chef pour l’ONG The Nature Conservancy et Professeure
  titulaire en politique et droit public à l’Université Texas Tech\, Ka
 tharine est l’une des voix les plus influentes dans le domaine de la sci
 ence du climat. Son impact a été reconnu à l’échelle mondiale. Elle 
 a été lauréate du programme Les Champions de la Terre des Nations Unies
 \, et figure parmi les cent personnes les plus influentes selon le Time Ma
 gazine.
ATTACH;FMTTYPE=image/jpeg:https://www.egliseverte.org/wp-content/uploads/2
 025/02/Hayhoe_Affiche.jpg
LOCATION:Maison du Protestantisme\, 47 rue de Clichy\, Paris\, 75009\, Fran
 ce
X-APPLE-STRUCTURED-LOCATION;VALUE=URI;X-ADDRESS=47 rue de Clichy\, Paris\, 
 75009\, France;X-APPLE-RADIUS=100;X-TITLE=Maison du Protestantisme:geo:0,0
END:VEVENT
BEGIN:VTIMEZONE
TZID:Europe/Paris
X-LIC-LOCATION:Europe/Paris
BEGIN:STANDARD
DTSTART:20241027T020000
TZOFFSETFROM:+0200
TZOFFSETTO:+0100
TZNAME:CET
END:STANDARD
END:VTIMEZONE
END:VCALENDAR