BEGIN:VCALENDAR
VERSION:2.0
PRODID:-//wp-events-plugin.com//7.2.3.1//EN
TZID:Europe/Paris
X-WR-TIMEZONE:Europe/Paris
BEGIN:VEVENT
UID:403@egliseverte.org
DTSTART;TZID=Europe/Paris:20240927T190000
DTEND;TZID=Europe/Paris:20240927T203000
DTSTAMP:20240918T163047Z
URL:https://www.egliseverte.org/agenda/temps-de-priere-oecumenique-pour-la
 -creation-01/
SUMMARY:Temps de prière œcuménique pour la création (01)
DESCRIPTION:L'équipe Église verte du groupement paroissial de Miribel vou
 s invite à un temps de prière œcuménique en ce temps de la création.\
 nNous écouterons la Parole et chanterons pour louer Dieu et ses œuvres.\
 nUn diacre présidera et ce sera accompagné à la guitare.\nNous partager
 ons ensuite le verre de l'amitié.
ATTACH;FMTTYPE=image/jpeg:https://www.egliseverte.org/wp-content/uploads/2
 024/09/Tps-Crea-priere-sept24-1.png
LOCATION:Eglise Notre Dame\, 28 route de Genève\, SAINT MAURICE DE BEYNOST
 \, 01\, 01700\, Rhône Alpes\, France
X-APPLE-STRUCTURED-LOCATION;VALUE=URI;X-ADDRESS=28 route de Genève\, SAINT
  MAURICE DE BEYNOST\, 01\, 01700\, Rhône Alpes\, France;X-APPLE-RADIUS=10
 0;X-TITLE=Eglise Notre Dame:geo:0,0
END:VEVENT
BEGIN:VTIMEZONE
TZID:Europe/Paris
X-LIC-LOCATION:Europe/Paris
BEGIN:DAYLIGHT
DTSTART:20240331T030000
TZOFFSETFROM:+0100
TZOFFSETTO:+0200
TZNAME:CEST
END:DAYLIGHT
END:VTIMEZONE
END:VCALENDAR